BEGIN:VCALENDAR
VERSION:2.0
PRODID:-//中部山岳国立公園奥飛驒ビジターセンター - ECPv6.15.17.1//NONSGML v1.0//EN
CALSCALE:GREGORIAN
METHOD:PUBLISH
X-ORIGINAL-URL:https://hidasanmyaku-gifu.jp/okuhida-vc
X-WR-CALDESC:中部山岳国立公園奥飛驒ビジターセンター のイベント
REFRESH-INTERVAL;VALUE=DURATION:PT1H
X-Robots-Tag:noindex
X-PUBLISHED-TTL:PT1H
BEGIN:VTIMEZONE
TZID:Asia/Tokyo
BEGIN:STANDARD
TZOFFSETFROM:+0900
TZOFFSETTO:+0900
TZNAME:JST
DTSTART:20250101T000000
END:STANDARD
END:VTIMEZONE
BEGIN:VEVENT
DTSTART;VALUE=DATE:20260715
DTEND;VALUE=DATE:20260716
DTSTAMP:20260421T000611
CREATED:20260103T011241Z
LAST-MODIFIED:20260103T011338Z
UID:10011015-1784073600-1784159999@hidasanmyaku-gifu.jp
SUMMARY:休館日
DESCRIPTION:
URL:https://hidasanmyaku-gifu.jp/okuhida-vc/event/%e4%bc%91%e9%a4%a8%e6%97%a5-9/2026-07-15/
END:VEVENT
BEGIN:VEVENT
DTSTART;VALUE=DATE:20260722
DTEND;VALUE=DATE:20260723
DTSTAMP:20260421T000611
CREATED:20260103T011241Z
LAST-MODIFIED:20260103T011338Z
UID:10011016-1784678400-1784764799@hidasanmyaku-gifu.jp
SUMMARY:休館日
DESCRIPTION:
URL:https://hidasanmyaku-gifu.jp/okuhida-vc/event/%e4%bc%91%e9%a4%a8%e6%97%a5-9/2026-07-22/
END:VEVENT
BEGIN:VEVENT
DTSTART;VALUE=DATE:20260729
DTEND;VALUE=DATE:20260730
DTSTAMP:20260421T000611
CREATED:20260103T011241Z
LAST-MODIFIED:20260103T011338Z
UID:10011017-1785283200-1785369599@hidasanmyaku-gifu.jp
SUMMARY:休館日
DESCRIPTION:
URL:https://hidasanmyaku-gifu.jp/okuhida-vc/event/%e4%bc%91%e9%a4%a8%e6%97%a5-9/2026-07-29/
END:VEVENT
BEGIN:VEVENT
DTSTART;VALUE=DATE:20260805
DTEND;VALUE=DATE:20260806
DTSTAMP:20260421T000611
CREATED:20260103T011241Z
LAST-MODIFIED:20260103T011338Z
UID:10011018-1785888000-1785974399@hidasanmyaku-gifu.jp
SUMMARY:休館日
DESCRIPTION:
URL:https://hidasanmyaku-gifu.jp/okuhida-vc/event/%e4%bc%91%e9%a4%a8%e6%97%a5-9/2026-08-05/
END:VEVENT
BEGIN:VEVENT
DTSTART;VALUE=DATE:20260812
DTEND;VALUE=DATE:20260813
DTSTAMP:20260421T000611
CREATED:20260103T011241Z
LAST-MODIFIED:20260103T011338Z
UID:10011019-1786492800-1786579199@hidasanmyaku-gifu.jp
SUMMARY:休館日
DESCRIPTION:
URL:https://hidasanmyaku-gifu.jp/okuhida-vc/event/%e4%bc%91%e9%a4%a8%e6%97%a5-9/2026-08-12/
END:VEVENT
BEGIN:VEVENT
DTSTART;VALUE=DATE:20260819
DTEND;VALUE=DATE:20260820
DTSTAMP:20260421T000611
CREATED:20260103T011241Z
LAST-MODIFIED:20260103T011338Z
UID:10011020-1787097600-1787183999@hidasanmyaku-gifu.jp
SUMMARY:休館日
DESCRIPTION:
URL:https://hidasanmyaku-gifu.jp/okuhida-vc/event/%e4%bc%91%e9%a4%a8%e6%97%a5-9/2026-08-19/
END:VEVENT
BEGIN:VEVENT
DTSTART;VALUE=DATE:20260826
DTEND;VALUE=DATE:20260827
DTSTAMP:20260421T000611
CREATED:20260103T011241Z
LAST-MODIFIED:20260103T011338Z
UID:10011021-1787702400-1787788799@hidasanmyaku-gifu.jp
SUMMARY:休館日
DESCRIPTION:
URL:https://hidasanmyaku-gifu.jp/okuhida-vc/event/%e4%bc%91%e9%a4%a8%e6%97%a5-9/2026-08-26/
END:VEVENT
BEGIN:VEVENT
DTSTART;VALUE=DATE:20260902
DTEND;VALUE=DATE:20260903
DTSTAMP:20260421T000611
CREATED:20260103T011241Z
LAST-MODIFIED:20260103T011338Z
UID:10011022-1788307200-1788393599@hidasanmyaku-gifu.jp
SUMMARY:休館日
DESCRIPTION:
URL:https://hidasanmyaku-gifu.jp/okuhida-vc/event/%e4%bc%91%e9%a4%a8%e6%97%a5-9/2026-09-02/
END:VEVENT
BEGIN:VEVENT
DTSTART;VALUE=DATE:20260909
DTEND;VALUE=DATE:20260910
DTSTAMP:20260421T000611
CREATED:20260103T011241Z
LAST-MODIFIED:20260103T011338Z
UID:10011023-1788912000-1788998399@hidasanmyaku-gifu.jp
SUMMARY:休館日
DESCRIPTION:
URL:https://hidasanmyaku-gifu.jp/okuhida-vc/event/%e4%bc%91%e9%a4%a8%e6%97%a5-9/2026-09-09/
END:VEVENT
BEGIN:VEVENT
DTSTART;VALUE=DATE:20260916
DTEND;VALUE=DATE:20260917
DTSTAMP:20260421T000611
CREATED:20260103T011241Z
LAST-MODIFIED:20260103T011338Z
UID:10011024-1789516800-1789603199@hidasanmyaku-gifu.jp
SUMMARY:休館日
DESCRIPTION:
URL:https://hidasanmyaku-gifu.jp/okuhida-vc/event/%e4%bc%91%e9%a4%a8%e6%97%a5-9/2026-09-16/
END:VEVENT
BEGIN:VEVENT
DTSTART;VALUE=DATE:20260924
DTEND;VALUE=DATE:20260925
DTSTAMP:20260421T000611
CREATED:20260103T011500Z
LAST-MODIFIED:20260103T012147Z
UID:10011025-1790208000-1790294399@hidasanmyaku-gifu.jp
SUMMARY:休館日
DESCRIPTION:
URL:https://hidasanmyaku-gifu.jp/okuhida-vc/event/%e4%bc%91%e9%a4%a8%e6%97%a5-10/
END:VEVENT
BEGIN:VEVENT
DTSTART;VALUE=DATE:20260930
DTEND;VALUE=DATE:20261001
DTSTAMP:20260421T000611
CREATED:20260103T011632Z
LAST-MODIFIED:20260103T011913Z
UID:10011026-1790726400-1790812799@hidasanmyaku-gifu.jp
SUMMARY:休館日
DESCRIPTION:
URL:https://hidasanmyaku-gifu.jp/okuhida-vc/event/%e4%bc%91%e9%a4%a8%e6%97%a5-11/2026-09-30/
END:VEVENT
BEGIN:VEVENT
DTSTART;VALUE=DATE:20261007
DTEND;VALUE=DATE:20261008
DTSTAMP:20260421T000611
CREATED:20260103T011632Z
LAST-MODIFIED:20260103T011913Z
UID:10011027-1791331200-1791417599@hidasanmyaku-gifu.jp
SUMMARY:休館日
DESCRIPTION:
URL:https://hidasanmyaku-gifu.jp/okuhida-vc/event/%e4%bc%91%e9%a4%a8%e6%97%a5-11/2026-10-07/
END:VEVENT
BEGIN:VEVENT
DTSTART;VALUE=DATE:20261014
DTEND;VALUE=DATE:20261015
DTSTAMP:20260421T000611
CREATED:20260103T011632Z
LAST-MODIFIED:20260103T011913Z
UID:10011028-1791936000-1792022399@hidasanmyaku-gifu.jp
SUMMARY:休館日
DESCRIPTION:
URL:https://hidasanmyaku-gifu.jp/okuhida-vc/event/%e4%bc%91%e9%a4%a8%e6%97%a5-11/2026-10-14/
END:VEVENT
BEGIN:VEVENT
DTSTART;VALUE=DATE:20261021
DTEND;VALUE=DATE:20261022
DTSTAMP:20260421T000611
CREATED:20260103T011632Z
LAST-MODIFIED:20260103T011913Z
UID:10011029-1792540800-1792627199@hidasanmyaku-gifu.jp
SUMMARY:休館日
DESCRIPTION:
URL:https://hidasanmyaku-gifu.jp/okuhida-vc/event/%e4%bc%91%e9%a4%a8%e6%97%a5-11/2026-10-21/
END:VEVENT
BEGIN:VEVENT
DTSTART;VALUE=DATE:20261028
DTEND;VALUE=DATE:20261029
DTSTAMP:20260421T000611
CREATED:20260103T011632Z
LAST-MODIFIED:20260103T011913Z
UID:10011030-1793145600-1793231999@hidasanmyaku-gifu.jp
SUMMARY:休館日
DESCRIPTION:
URL:https://hidasanmyaku-gifu.jp/okuhida-vc/event/%e4%bc%91%e9%a4%a8%e6%97%a5-11/2026-10-28/
END:VEVENT
BEGIN:VEVENT
DTSTART;VALUE=DATE:20261104
DTEND;VALUE=DATE:20261105
DTSTAMP:20260421T000611
CREATED:20260103T011632Z
LAST-MODIFIED:20260103T011913Z
UID:10011031-1793750400-1793836799@hidasanmyaku-gifu.jp
SUMMARY:休館日
DESCRIPTION:
URL:https://hidasanmyaku-gifu.jp/okuhida-vc/event/%e4%bc%91%e9%a4%a8%e6%97%a5-11/2026-11-04/
END:VEVENT
BEGIN:VEVENT
DTSTART;VALUE=DATE:20261111
DTEND;VALUE=DATE:20261112
DTSTAMP:20260421T000611
CREATED:20260103T011632Z
LAST-MODIFIED:20260103T011913Z
UID:10011032-1794355200-1794441599@hidasanmyaku-gifu.jp
SUMMARY:休館日
DESCRIPTION:
URL:https://hidasanmyaku-gifu.jp/okuhida-vc/event/%e4%bc%91%e9%a4%a8%e6%97%a5-11/2026-11-11/
END:VEVENT
BEGIN:VEVENT
DTSTART;VALUE=DATE:20261118
DTEND;VALUE=DATE:20261119
DTSTAMP:20260421T000611
CREATED:20260103T011632Z
LAST-MODIFIED:20260103T011913Z
UID:10011033-1794960000-1795046399@hidasanmyaku-gifu.jp
SUMMARY:休館日
DESCRIPTION:
URL:https://hidasanmyaku-gifu.jp/okuhida-vc/event/%e4%bc%91%e9%a4%a8%e6%97%a5-11/2026-11-18/
END:VEVENT
BEGIN:VEVENT
DTSTART;VALUE=DATE:20261125
DTEND;VALUE=DATE:20261126
DTSTAMP:20260421T000611
CREATED:20260103T011632Z
LAST-MODIFIED:20260103T011913Z
UID:10011034-1795564800-1795651199@hidasanmyaku-gifu.jp
SUMMARY:休館日
DESCRIPTION:
URL:https://hidasanmyaku-gifu.jp/okuhida-vc/event/%e4%bc%91%e9%a4%a8%e6%97%a5-11/2026-11-25/
END:VEVENT
BEGIN:VEVENT
DTSTART;VALUE=DATE:20261202
DTEND;VALUE=DATE:20261203
DTSTAMP:20260421T000611
CREATED:20260103T011632Z
LAST-MODIFIED:20260103T011913Z
UID:10011035-1796169600-1796255999@hidasanmyaku-gifu.jp
SUMMARY:休館日
DESCRIPTION:
URL:https://hidasanmyaku-gifu.jp/okuhida-vc/event/%e4%bc%91%e9%a4%a8%e6%97%a5-11/2026-12-02/
END:VEVENT
BEGIN:VEVENT
DTSTART;VALUE=DATE:20261209
DTEND;VALUE=DATE:20261210
DTSTAMP:20260421T000611
CREATED:20260103T011632Z
LAST-MODIFIED:20260103T011913Z
UID:10011036-1796774400-1796860799@hidasanmyaku-gifu.jp
SUMMARY:休館日
DESCRIPTION:
URL:https://hidasanmyaku-gifu.jp/okuhida-vc/event/%e4%bc%91%e9%a4%a8%e6%97%a5-11/2026-12-09/
END:VEVENT
BEGIN:VEVENT
DTSTART;VALUE=DATE:20261216
DTEND;VALUE=DATE:20261217
DTSTAMP:20260421T000611
CREATED:20260103T011632Z
LAST-MODIFIED:20260103T011913Z
UID:10011037-1797379200-1797465599@hidasanmyaku-gifu.jp
SUMMARY:休館日
DESCRIPTION:
URL:https://hidasanmyaku-gifu.jp/okuhida-vc/event/%e4%bc%91%e9%a4%a8%e6%97%a5-11/2026-12-16/
END:VEVENT
BEGIN:VEVENT
DTSTART;VALUE=DATE:20261223
DTEND;VALUE=DATE:20261224
DTSTAMP:20260421T000611
CREATED:20260103T011632Z
LAST-MODIFIED:20260103T011913Z
UID:10011038-1797984000-1798070399@hidasanmyaku-gifu.jp
SUMMARY:休館日
DESCRIPTION:
URL:https://hidasanmyaku-gifu.jp/okuhida-vc/event/%e4%bc%91%e9%a4%a8%e6%97%a5-11/2026-12-23/
END:VEVENT
BEGIN:VEVENT
DTSTART;VALUE=DATE:20261230
DTEND;VALUE=DATE:20261231
DTSTAMP:20260421T000611
CREATED:20260103T011632Z
LAST-MODIFIED:20260103T011913Z
UID:10011039-1798588800-1798675199@hidasanmyaku-gifu.jp
SUMMARY:休館日
DESCRIPTION:
URL:https://hidasanmyaku-gifu.jp/okuhida-vc/event/%e4%bc%91%e9%a4%a8%e6%97%a5-11/2026-12-30/
END:VEVENT
BEGIN:VEVENT
DTSTART;VALUE=DATE:20270106
DTEND;VALUE=DATE:20270107
DTSTAMP:20260421T000611
CREATED:20260103T011632Z
LAST-MODIFIED:20260103T011913Z
UID:10011040-1799193600-1799279999@hidasanmyaku-gifu.jp
SUMMARY:休館日
DESCRIPTION:
URL:https://hidasanmyaku-gifu.jp/okuhida-vc/event/%e4%bc%91%e9%a4%a8%e6%97%a5-11/2027-01-06/
END:VEVENT
BEGIN:VEVENT
DTSTART;VALUE=DATE:20270113
DTEND;VALUE=DATE:20270114
DTSTAMP:20260421T000611
CREATED:20260103T011632Z
LAST-MODIFIED:20260103T011913Z
UID:10011041-1799798400-1799884799@hidasanmyaku-gifu.jp
SUMMARY:休館日
DESCRIPTION:
URL:https://hidasanmyaku-gifu.jp/okuhida-vc/event/%e4%bc%91%e9%a4%a8%e6%97%a5-11/2027-01-13/
END:VEVENT
BEGIN:VEVENT
DTSTART;VALUE=DATE:20270120
DTEND;VALUE=DATE:20270121
DTSTAMP:20260421T000611
CREATED:20260103T011632Z
LAST-MODIFIED:20260103T011913Z
UID:10011042-1800403200-1800489599@hidasanmyaku-gifu.jp
SUMMARY:休館日
DESCRIPTION:
URL:https://hidasanmyaku-gifu.jp/okuhida-vc/event/%e4%bc%91%e9%a4%a8%e6%97%a5-11/2027-01-20/
END:VEVENT
BEGIN:VEVENT
DTSTART;VALUE=DATE:20270127
DTEND;VALUE=DATE:20270128
DTSTAMP:20260421T000611
CREATED:20260103T011632Z
LAST-MODIFIED:20260103T011913Z
UID:10011043-1801008000-1801094399@hidasanmyaku-gifu.jp
SUMMARY:休館日
DESCRIPTION:
URL:https://hidasanmyaku-gifu.jp/okuhida-vc/event/%e4%bc%91%e9%a4%a8%e6%97%a5-11/2027-01-27/
END:VEVENT
BEGIN:VEVENT
DTSTART;VALUE=DATE:20270203
DTEND;VALUE=DATE:20270204
DTSTAMP:20260421T000611
CREATED:20260103T011632Z
LAST-MODIFIED:20260103T011913Z
UID:10011044-1801612800-1801699199@hidasanmyaku-gifu.jp
SUMMARY:休館日
DESCRIPTION:
URL:https://hidasanmyaku-gifu.jp/okuhida-vc/event/%e4%bc%91%e9%a4%a8%e6%97%a5-11/2027-02-03/
END:VEVENT
END:VCALENDAR