BEGIN:VCALENDAR
VERSION:2.0
PRODID:-//中部山岳国立公園奥飛驒ビジターセンター - ECPv6.15.17.1//NONSGML v1.0//EN
CALSCALE:GREGORIAN
METHOD:PUBLISH
X-ORIGINAL-URL:https://hidasanmyaku-gifu.jp/okuhida-vc
X-WR-CALDESC:中部山岳国立公園奥飛驒ビジターセンター のイベント
REFRESH-INTERVAL;VALUE=DURATION:PT1H
X-Robots-Tag:noindex
X-PUBLISHED-TTL:PT1H
BEGIN:VTIMEZONE
TZID:Asia/Tokyo
BEGIN:STANDARD
TZOFFSETFROM:+0900
TZOFFSETTO:+0900
TZNAME:JST
DTSTART:20240101T000000
END:STANDARD
END:VTIMEZONE
BEGIN:VEVENT
DTSTART;TZID=Asia/Tokyo:20250907T070000
DTEND;TZID=Asia/Tokyo:20250907T143000
DTSTAMP:20260423T072949
CREATED:20250721T011738Z
LAST-MODIFIED:20250721T011738Z
UID:10010586-1757228400-1757255400@hidasanmyaku-gifu.jp
SUMMARY:登山ガイドと行く西穂丸山初心者登山
DESCRIPTION:ロープウェイを利用して、初心者登山をしてみましょう！\n「登山に興味はあるけど、なかなか踏み出せない・・・」\n「始めたばかりでこれでよいのか不安・・・」\nという方にぴったり！！\n登山ガイドに基本を教わりながら、まずは気軽にロープウェイを利用して北アルプスに挑戦しましょう！\n標高差293ｍ、往復約5km程度をゆっくり歩きます。\n上から眺める上高地や、周囲の北アルプスを身近に感じて登山にはまること間違いなし！です。\nぜひ申込みください。 \n定員：先着順12名まで　締切：８月２７日（水）（定員になり次第締切） \nお申し込みはこちら \n 
URL:https://hidasanmyaku-gifu.jp/okuhida-vc/event/torekking/
LOCATION:昔ばなしの里\, 岐阜県高山市奥飛騨温泉郷福地110\, 高山市\, 岐阜県\, 506-1434\, Japan
CATEGORIES:周辺イベント
ATTACH;FMTTYPE=image/jpeg:https://hidasanmyaku-gifu.jp/okuhida-vc/wp-content/uploads/2025/07/1.jpg
END:VEVENT
BEGIN:VEVENT
DTSTART;TZID=Asia/Tokyo:20260517T090000
DTEND;TZID=Asia/Tokyo:20260517T140000
DTSTAMP:20260423T072949
CREATED:20260411T053505Z
LAST-MODIFIED:20260411T053505Z
UID:10011438-1779008400-1779026400@hidasanmyaku-gifu.jp
SUMMARY:初心者登山　十二ヶ岳
DESCRIPTION:登山初心者集合！ \n１人で登山するのは不安・・・。何を準備してどの山に登ればいいかわからない・・・。\nという方にピッタリの山にガイドと一緒にゆっくり登ります。 \n分からないことや不安なこと、いろんな楽しみ方も一緒に楽しみながら学びましょう！ \nぜひ、お申込みください。 \nお申し込みはこちら
URL:https://hidasanmyaku-gifu.jp/okuhida-vc/event/jyuuni/
LOCATION:丹生川支所\, 高山市丹生川町坊方2000\, 高山市\, 5062192
CATEGORIES:周辺イベント
ATTACH;FMTTYPE=image/jpeg:https://hidasanmyaku-gifu.jp/okuhida-vc/wp-content/uploads/2026/03/初心者登山チラシ.jpg
END:VEVENT
END:VCALENDAR