BEGIN:VCALENDAR
VERSION:2.0
PRODID:-//中部山岳国立公園奥飛驒ビジターセンター - ECPv6.15.17.1//NONSGML v1.0//EN
CALSCALE:GREGORIAN
METHOD:PUBLISH
X-ORIGINAL-URL:https://hidasanmyaku-gifu.jp/okuhida-vc
X-WR-CALDESC:中部山岳国立公園奥飛驒ビジターセンター のイベント
REFRESH-INTERVAL;VALUE=DURATION:PT1H
X-Robots-Tag:noindex
X-PUBLISHED-TTL:PT1H
BEGIN:VTIMEZONE
TZID:Asia/Tokyo
BEGIN:STANDARD
TZOFFSETFROM:+0900
TZOFFSETTO:+0900
TZNAME:JST
DTSTART:20240101T000000
END:STANDARD
END:VTIMEZONE
BEGIN:VEVENT
DTSTART;TZID=Asia/Tokyo:20251101T100000
DTEND;TZID=Asia/Tokyo:20251101T160000
DTSTAMP:20260420T090244
CREATED:20251006T073802Z
LAST-MODIFIED:20251006T074529Z
UID:10010779-1761991200-1762012800@hidasanmyaku-gifu.jp
SUMMARY:紅葉自然散策ガイドツアー
DESCRIPTION:紅葉のしくみを知ろう！\nあなたの知らない平湯大滝と紅葉のしくみを両方一緒に学べるお得なツアーです♪ \nお申し込みはこちら
URL:https://hidasanmyaku-gifu.jp/okuhida-vc/event/kouyoutour/2025-11-01/
LOCATION:中部山岳国立公園奥飛驒ビジターセンター\, 奥飛騨温泉郷平湯763-12\, 高山市\, 岐阜県\, 506-1433\, 日本
CATEGORIES:周辺イベント
ATTACH;FMTTYPE=image/jpeg:https://hidasanmyaku-gifu.jp/okuhida-vc/wp-content/uploads/2025/10/紅葉ガイドツアーチラシ.jpg
END:VEVENT
BEGIN:VEVENT
DTSTART;TZID=Asia/Tokyo:20251102T100000
DTEND;TZID=Asia/Tokyo:20251102T160000
DTSTAMP:20260420T090244
CREATED:20251006T073802Z
LAST-MODIFIED:20251006T074529Z
UID:10010780-1762077600-1762099200@hidasanmyaku-gifu.jp
SUMMARY:紅葉自然散策ガイドツアー
DESCRIPTION:紅葉のしくみを知ろう！\nあなたの知らない平湯大滝と紅葉のしくみを両方一緒に学べるお得なツアーです♪ \nお申し込みはこちら
URL:https://hidasanmyaku-gifu.jp/okuhida-vc/event/kouyoutour/2025-11-02/
LOCATION:中部山岳国立公園奥飛驒ビジターセンター\, 奥飛騨温泉郷平湯763-12\, 高山市\, 岐阜県\, 506-1433\, 日本
CATEGORIES:周辺イベント
ATTACH;FMTTYPE=image/jpeg:https://hidasanmyaku-gifu.jp/okuhida-vc/wp-content/uploads/2025/10/紅葉ガイドツアーチラシ.jpg
END:VEVENT
BEGIN:VEVENT
DTSTART;TZID=Asia/Tokyo:20251103T100000
DTEND;TZID=Asia/Tokyo:20251103T160000
DTSTAMP:20260420T090244
CREATED:20251006T073802Z
LAST-MODIFIED:20251006T074529Z
UID:10010781-1762164000-1762185600@hidasanmyaku-gifu.jp
SUMMARY:紅葉自然散策ガイドツアー
DESCRIPTION:紅葉のしくみを知ろう！\nあなたの知らない平湯大滝と紅葉のしくみを両方一緒に学べるお得なツアーです♪ \nお申し込みはこちら
URL:https://hidasanmyaku-gifu.jp/okuhida-vc/event/kouyoutour/2025-11-03/
LOCATION:中部山岳国立公園奥飛驒ビジターセンター\, 奥飛騨温泉郷平湯763-12\, 高山市\, 岐阜県\, 506-1433\, 日本
CATEGORIES:周辺イベント
ATTACH;FMTTYPE=image/jpeg:https://hidasanmyaku-gifu.jp/okuhida-vc/wp-content/uploads/2025/10/紅葉ガイドツアーチラシ.jpg
END:VEVENT
BEGIN:VEVENT
DTSTART;TZID=Asia/Tokyo:20251108T100000
DTEND;TZID=Asia/Tokyo:20251108T160000
DTSTAMP:20260420T090244
CREATED:20251006T073802Z
LAST-MODIFIED:20251006T074529Z
UID:10010782-1762596000-1762617600@hidasanmyaku-gifu.jp
SUMMARY:紅葉自然散策ガイドツアー
DESCRIPTION:紅葉のしくみを知ろう！\nあなたの知らない平湯大滝と紅葉のしくみを両方一緒に学べるお得なツアーです♪ \nお申し込みはこちら
URL:https://hidasanmyaku-gifu.jp/okuhida-vc/event/kouyoutour/2025-11-08/
LOCATION:中部山岳国立公園奥飛驒ビジターセンター\, 奥飛騨温泉郷平湯763-12\, 高山市\, 岐阜県\, 506-1433\, 日本
CATEGORIES:周辺イベント
ATTACH;FMTTYPE=image/jpeg:https://hidasanmyaku-gifu.jp/okuhida-vc/wp-content/uploads/2025/10/紅葉ガイドツアーチラシ.jpg
END:VEVENT
BEGIN:VEVENT
DTSTART;TZID=Asia/Tokyo:20251115T100000
DTEND;TZID=Asia/Tokyo:20251115T160000
DTSTAMP:20260420T090244
CREATED:20251006T073802Z
LAST-MODIFIED:20251006T074529Z
UID:10010783-1763200800-1763222400@hidasanmyaku-gifu.jp
SUMMARY:紅葉自然散策ガイドツアー
DESCRIPTION:紅葉のしくみを知ろう！\nあなたの知らない平湯大滝と紅葉のしくみを両方一緒に学べるお得なツアーです♪ \nお申し込みはこちら
URL:https://hidasanmyaku-gifu.jp/okuhida-vc/event/kouyoutour/2025-11-15/
LOCATION:中部山岳国立公園奥飛驒ビジターセンター\, 奥飛騨温泉郷平湯763-12\, 高山市\, 岐阜県\, 506-1433\, 日本
CATEGORIES:周辺イベント
ATTACH;FMTTYPE=image/jpeg:https://hidasanmyaku-gifu.jp/okuhida-vc/wp-content/uploads/2025/10/紅葉ガイドツアーチラシ.jpg
END:VEVENT
BEGIN:VEVENT
DTSTART;TZID=Asia/Tokyo:20251116T100000
DTEND;TZID=Asia/Tokyo:20251116T160000
DTSTAMP:20260420T090244
CREATED:20251006T073802Z
LAST-MODIFIED:20251006T074529Z
UID:10010784-1763287200-1763308800@hidasanmyaku-gifu.jp
SUMMARY:紅葉自然散策ガイドツアー
DESCRIPTION:紅葉のしくみを知ろう！\nあなたの知らない平湯大滝と紅葉のしくみを両方一緒に学べるお得なツアーです♪ \nお申し込みはこちら
URL:https://hidasanmyaku-gifu.jp/okuhida-vc/event/kouyoutour/2025-11-16/
LOCATION:中部山岳国立公園奥飛驒ビジターセンター\, 奥飛騨温泉郷平湯763-12\, 高山市\, 岐阜県\, 506-1433\, 日本
CATEGORIES:周辺イベント
ATTACH;FMTTYPE=image/jpeg:https://hidasanmyaku-gifu.jp/okuhida-vc/wp-content/uploads/2025/10/紅葉ガイドツアーチラシ.jpg
END:VEVENT
BEGIN:VEVENT
DTSTART;TZID=Asia/Tokyo:20251118T100000
DTEND;TZID=Asia/Tokyo:20251118T160000
DTSTAMP:20260420T090244
CREATED:20251102T065145Z
LAST-MODIFIED:20251102T065402Z
UID:10010789-1763460000-1763481600@hidasanmyaku-gifu.jp
SUMMARY:葉っぱスタンプポーチ作り
DESCRIPTION:自然のかたちをそのままアートに。葉っぱスタンプポーチ作り体験\n自然の葉っぱを使って、スタンプアートを楽しみましょう！\n葉っぱのかたちや葉脈のもようをポーチにぺたっと写して、オリジナルポーチを作ってみませんか？ \nこのクラフト限定で平湯の温泉むすめ「平湯みつば」ちゃんのシールもアイロンで貼ることができます♪ \n11月18日～25日（水曜日は除く）の10：00～12：00、13：00～16：00までの限定クラフトです。作成時間：約１時間\n先着20名、予約優先となりますので、ぜひご予約ください！（混み合う場合はお待ちいただくこともありますので、ご了承ください。） \nお申し込みはこちら \n 
URL:https://hidasanmyaku-gifu.jp/okuhida-vc/event/happa/2025-11-18/
LOCATION:中部山岳国立公園奥飛驒ビジターセンター\, 奥飛騨温泉郷平湯763-12\, 高山市\, 岐阜県\, 506-1433\, 日本
CATEGORIES:館内イベント
ATTACH;FMTTYPE=image/jpeg:https://hidasanmyaku-gifu.jp/okuhida-vc/wp-content/uploads/2025/11/873D2C6B-F9C0-49E8-BEE4-5F2D9F12B937-scaled.jpg
END:VEVENT
BEGIN:VEVENT
DTSTART;TZID=Asia/Tokyo:20251120T100000
DTEND;TZID=Asia/Tokyo:20251120T160000
DTSTAMP:20260420T090244
CREATED:20251102T065145Z
LAST-MODIFIED:20251102T065402Z
UID:10010790-1763632800-1763654400@hidasanmyaku-gifu.jp
SUMMARY:葉っぱスタンプポーチ作り
DESCRIPTION:自然のかたちをそのままアートに。葉っぱスタンプポーチ作り体験\n自然の葉っぱを使って、スタンプアートを楽しみましょう！\n葉っぱのかたちや葉脈のもようをポーチにぺたっと写して、オリジナルポーチを作ってみませんか？ \nこのクラフト限定で平湯の温泉むすめ「平湯みつば」ちゃんのシールもアイロンで貼ることができます♪ \n11月18日～25日（水曜日は除く）の10：00～12：00、13：00～16：00までの限定クラフトです。作成時間：約１時間\n先着20名、予約優先となりますので、ぜひご予約ください！（混み合う場合はお待ちいただくこともありますので、ご了承ください。） \nお申し込みはこちら \n 
URL:https://hidasanmyaku-gifu.jp/okuhida-vc/event/happa/2025-11-20/
LOCATION:中部山岳国立公園奥飛驒ビジターセンター\, 奥飛騨温泉郷平湯763-12\, 高山市\, 岐阜県\, 506-1433\, 日本
CATEGORIES:館内イベント
ATTACH;FMTTYPE=image/jpeg:https://hidasanmyaku-gifu.jp/okuhida-vc/wp-content/uploads/2025/11/873D2C6B-F9C0-49E8-BEE4-5F2D9F12B937-scaled.jpg
END:VEVENT
BEGIN:VEVENT
DTSTART;TZID=Asia/Tokyo:20251121T100000
DTEND;TZID=Asia/Tokyo:20251121T160000
DTSTAMP:20260420T090244
CREATED:20251102T065145Z
LAST-MODIFIED:20251102T065402Z
UID:10010791-1763719200-1763740800@hidasanmyaku-gifu.jp
SUMMARY:葉っぱスタンプポーチ作り
DESCRIPTION:自然のかたちをそのままアートに。葉っぱスタンプポーチ作り体験\n自然の葉っぱを使って、スタンプアートを楽しみましょう！\n葉っぱのかたちや葉脈のもようをポーチにぺたっと写して、オリジナルポーチを作ってみませんか？ \nこのクラフト限定で平湯の温泉むすめ「平湯みつば」ちゃんのシールもアイロンで貼ることができます♪ \n11月18日～25日（水曜日は除く）の10：00～12：00、13：00～16：00までの限定クラフトです。作成時間：約１時間\n先着20名、予約優先となりますので、ぜひご予約ください！（混み合う場合はお待ちいただくこともありますので、ご了承ください。） \nお申し込みはこちら \n 
URL:https://hidasanmyaku-gifu.jp/okuhida-vc/event/happa/2025-11-21/
LOCATION:中部山岳国立公園奥飛驒ビジターセンター\, 奥飛騨温泉郷平湯763-12\, 高山市\, 岐阜県\, 506-1433\, 日本
CATEGORIES:館内イベント
ATTACH;FMTTYPE=image/jpeg:https://hidasanmyaku-gifu.jp/okuhida-vc/wp-content/uploads/2025/11/873D2C6B-F9C0-49E8-BEE4-5F2D9F12B937-scaled.jpg
END:VEVENT
BEGIN:VEVENT
DTSTART;TZID=Asia/Tokyo:20251122T100000
DTEND;TZID=Asia/Tokyo:20251122T160000
DTSTAMP:20260420T090244
CREATED:20251006T073802Z
LAST-MODIFIED:20251006T074529Z
UID:10010785-1763805600-1763827200@hidasanmyaku-gifu.jp
SUMMARY:紅葉自然散策ガイドツアー
DESCRIPTION:紅葉のしくみを知ろう！\nあなたの知らない平湯大滝と紅葉のしくみを両方一緒に学べるお得なツアーです♪ \nお申し込みはこちら
URL:https://hidasanmyaku-gifu.jp/okuhida-vc/event/kouyoutour/2025-11-22/
LOCATION:中部山岳国立公園奥飛驒ビジターセンター\, 奥飛騨温泉郷平湯763-12\, 高山市\, 岐阜県\, 506-1433\, 日本
CATEGORIES:周辺イベント
ATTACH;FMTTYPE=image/jpeg:https://hidasanmyaku-gifu.jp/okuhida-vc/wp-content/uploads/2025/10/紅葉ガイドツアーチラシ.jpg
END:VEVENT
BEGIN:VEVENT
DTSTART;TZID=Asia/Tokyo:20251122T100000
DTEND;TZID=Asia/Tokyo:20251122T160000
DTSTAMP:20260420T090244
CREATED:20251102T065145Z
LAST-MODIFIED:20251102T065402Z
UID:10010792-1763805600-1763827200@hidasanmyaku-gifu.jp
SUMMARY:葉っぱスタンプポーチ作り
DESCRIPTION:自然のかたちをそのままアートに。葉っぱスタンプポーチ作り体験\n自然の葉っぱを使って、スタンプアートを楽しみましょう！\n葉っぱのかたちや葉脈のもようをポーチにぺたっと写して、オリジナルポーチを作ってみませんか？ \nこのクラフト限定で平湯の温泉むすめ「平湯みつば」ちゃんのシールもアイロンで貼ることができます♪ \n11月18日～25日（水曜日は除く）の10：00～12：00、13：00～16：00までの限定クラフトです。作成時間：約１時間\n先着20名、予約優先となりますので、ぜひご予約ください！（混み合う場合はお待ちいただくこともありますので、ご了承ください。） \nお申し込みはこちら \n 
URL:https://hidasanmyaku-gifu.jp/okuhida-vc/event/happa/2025-11-22/
LOCATION:中部山岳国立公園奥飛驒ビジターセンター\, 奥飛騨温泉郷平湯763-12\, 高山市\, 岐阜県\, 506-1433\, 日本
CATEGORIES:館内イベント
ATTACH;FMTTYPE=image/jpeg:https://hidasanmyaku-gifu.jp/okuhida-vc/wp-content/uploads/2025/11/873D2C6B-F9C0-49E8-BEE4-5F2D9F12B937-scaled.jpg
END:VEVENT
BEGIN:VEVENT
DTSTART;TZID=Asia/Tokyo:20251123T100000
DTEND;TZID=Asia/Tokyo:20251123T160000
DTSTAMP:20260420T090244
CREATED:20251006T073802Z
LAST-MODIFIED:20251006T074529Z
UID:10010786-1763892000-1763913600@hidasanmyaku-gifu.jp
SUMMARY:紅葉自然散策ガイドツアー
DESCRIPTION:紅葉のしくみを知ろう！\nあなたの知らない平湯大滝と紅葉のしくみを両方一緒に学べるお得なツアーです♪ \nお申し込みはこちら
URL:https://hidasanmyaku-gifu.jp/okuhida-vc/event/kouyoutour/2025-11-23/
LOCATION:中部山岳国立公園奥飛驒ビジターセンター\, 奥飛騨温泉郷平湯763-12\, 高山市\, 岐阜県\, 506-1433\, 日本
CATEGORIES:周辺イベント
ATTACH;FMTTYPE=image/jpeg:https://hidasanmyaku-gifu.jp/okuhida-vc/wp-content/uploads/2025/10/紅葉ガイドツアーチラシ.jpg
END:VEVENT
BEGIN:VEVENT
DTSTART;TZID=Asia/Tokyo:20251123T100000
DTEND;TZID=Asia/Tokyo:20251123T160000
DTSTAMP:20260420T090244
CREATED:20251102T065145Z
LAST-MODIFIED:20251102T065402Z
UID:10010793-1763892000-1763913600@hidasanmyaku-gifu.jp
SUMMARY:葉っぱスタンプポーチ作り
DESCRIPTION:自然のかたちをそのままアートに。葉っぱスタンプポーチ作り体験\n自然の葉っぱを使って、スタンプアートを楽しみましょう！\n葉っぱのかたちや葉脈のもようをポーチにぺたっと写して、オリジナルポーチを作ってみませんか？ \nこのクラフト限定で平湯の温泉むすめ「平湯みつば」ちゃんのシールもアイロンで貼ることができます♪ \n11月18日～25日（水曜日は除く）の10：00～12：00、13：00～16：00までの限定クラフトです。作成時間：約１時間\n先着20名、予約優先となりますので、ぜひご予約ください！（混み合う場合はお待ちいただくこともありますので、ご了承ください。） \nお申し込みはこちら \n 
URL:https://hidasanmyaku-gifu.jp/okuhida-vc/event/happa/2025-11-23/
LOCATION:中部山岳国立公園奥飛驒ビジターセンター\, 奥飛騨温泉郷平湯763-12\, 高山市\, 岐阜県\, 506-1433\, 日本
CATEGORIES:館内イベント
ATTACH;FMTTYPE=image/jpeg:https://hidasanmyaku-gifu.jp/okuhida-vc/wp-content/uploads/2025/11/873D2C6B-F9C0-49E8-BEE4-5F2D9F12B937-scaled.jpg
END:VEVENT
BEGIN:VEVENT
DTSTART;TZID=Asia/Tokyo:20251124T100000
DTEND;TZID=Asia/Tokyo:20251124T160000
DTSTAMP:20260420T090244
CREATED:20251006T073802Z
LAST-MODIFIED:20251006T074529Z
UID:10010787-1763978400-1764000000@hidasanmyaku-gifu.jp
SUMMARY:紅葉自然散策ガイドツアー
DESCRIPTION:紅葉のしくみを知ろう！\nあなたの知らない平湯大滝と紅葉のしくみを両方一緒に学べるお得なツアーです♪ \nお申し込みはこちら
URL:https://hidasanmyaku-gifu.jp/okuhida-vc/event/kouyoutour/2025-11-24/
LOCATION:中部山岳国立公園奥飛驒ビジターセンター\, 奥飛騨温泉郷平湯763-12\, 高山市\, 岐阜県\, 506-1433\, 日本
CATEGORIES:周辺イベント
ATTACH;FMTTYPE=image/jpeg:https://hidasanmyaku-gifu.jp/okuhida-vc/wp-content/uploads/2025/10/紅葉ガイドツアーチラシ.jpg
END:VEVENT
BEGIN:VEVENT
DTSTART;TZID=Asia/Tokyo:20251124T100000
DTEND;TZID=Asia/Tokyo:20251124T160000
DTSTAMP:20260420T090244
CREATED:20251102T065145Z
LAST-MODIFIED:20251102T065402Z
UID:10010794-1763978400-1764000000@hidasanmyaku-gifu.jp
SUMMARY:葉っぱスタンプポーチ作り
DESCRIPTION:自然のかたちをそのままアートに。葉っぱスタンプポーチ作り体験\n自然の葉っぱを使って、スタンプアートを楽しみましょう！\n葉っぱのかたちや葉脈のもようをポーチにぺたっと写して、オリジナルポーチを作ってみませんか？ \nこのクラフト限定で平湯の温泉むすめ「平湯みつば」ちゃんのシールもアイロンで貼ることができます♪ \n11月18日～25日（水曜日は除く）の10：00～12：00、13：00～16：00までの限定クラフトです。作成時間：約１時間\n先着20名、予約優先となりますので、ぜひご予約ください！（混み合う場合はお待ちいただくこともありますので、ご了承ください。） \nお申し込みはこちら \n 
URL:https://hidasanmyaku-gifu.jp/okuhida-vc/event/happa/2025-11-24/
LOCATION:中部山岳国立公園奥飛驒ビジターセンター\, 奥飛騨温泉郷平湯763-12\, 高山市\, 岐阜県\, 506-1433\, 日本
CATEGORIES:館内イベント
ATTACH;FMTTYPE=image/jpeg:https://hidasanmyaku-gifu.jp/okuhida-vc/wp-content/uploads/2025/11/873D2C6B-F9C0-49E8-BEE4-5F2D9F12B937-scaled.jpg
END:VEVENT
BEGIN:VEVENT
DTSTART;TZID=Asia/Tokyo:20251125T100000
DTEND;TZID=Asia/Tokyo:20251125T160000
DTSTAMP:20260420T090244
CREATED:20251102T065145Z
LAST-MODIFIED:20251102T065402Z
UID:10010795-1764064800-1764086400@hidasanmyaku-gifu.jp
SUMMARY:葉っぱスタンプポーチ作り
DESCRIPTION:自然のかたちをそのままアートに。葉っぱスタンプポーチ作り体験\n自然の葉っぱを使って、スタンプアートを楽しみましょう！\n葉っぱのかたちや葉脈のもようをポーチにぺたっと写して、オリジナルポーチを作ってみませんか？ \nこのクラフト限定で平湯の温泉むすめ「平湯みつば」ちゃんのシールもアイロンで貼ることができます♪ \n11月18日～25日（水曜日は除く）の10：00～12：00、13：00～16：00までの限定クラフトです。作成時間：約１時間\n先着20名、予約優先となりますので、ぜひご予約ください！（混み合う場合はお待ちいただくこともありますので、ご了承ください。） \nお申し込みはこちら \n 
URL:https://hidasanmyaku-gifu.jp/okuhida-vc/event/happa/2025-11-25/
LOCATION:中部山岳国立公園奥飛驒ビジターセンター\, 奥飛騨温泉郷平湯763-12\, 高山市\, 岐阜県\, 506-1433\, 日本
CATEGORIES:館内イベント
ATTACH;FMTTYPE=image/jpeg:https://hidasanmyaku-gifu.jp/okuhida-vc/wp-content/uploads/2025/11/873D2C6B-F9C0-49E8-BEE4-5F2D9F12B937-scaled.jpg
END:VEVENT
BEGIN:VEVENT
DTSTART;TZID=Asia/Tokyo:20251130T100000
DTEND;TZID=Asia/Tokyo:20251130T160000
DTSTAMP:20260420T090244
CREATED:20251006T073802Z
LAST-MODIFIED:20251006T074529Z
UID:10010788-1764496800-1764518400@hidasanmyaku-gifu.jp
SUMMARY:紅葉自然散策ガイドツアー
DESCRIPTION:紅葉のしくみを知ろう！\nあなたの知らない平湯大滝と紅葉のしくみを両方一緒に学べるお得なツアーです♪ \nお申し込みはこちら
URL:https://hidasanmyaku-gifu.jp/okuhida-vc/event/kouyoutour/2025-11-30/
LOCATION:中部山岳国立公園奥飛驒ビジターセンター\, 奥飛騨温泉郷平湯763-12\, 高山市\, 岐阜県\, 506-1433\, 日本
CATEGORIES:周辺イベント
ATTACH;FMTTYPE=image/jpeg:https://hidasanmyaku-gifu.jp/okuhida-vc/wp-content/uploads/2025/10/紅葉ガイドツアーチラシ.jpg
END:VEVENT
END:VCALENDAR