BEGIN:VCALENDAR
VERSION:2.0
PRODID:-//中部山岳国立公園奥飛驒ビジターセンター - ECPv6.15.17.1//NONSGML v1.0//EN
CALSCALE:GREGORIAN
METHOD:PUBLISH
X-WR-CALNAME:中部山岳国立公園奥飛驒ビジターセンター
X-ORIGINAL-URL:https://hidasanmyaku-gifu.jp/okuhida-vc
X-WR-CALDESC:中部山岳国立公園奥飛驒ビジターセンター のイベント
REFRESH-INTERVAL;VALUE=DURATION:PT1H
X-Robots-Tag:noindex
X-PUBLISHED-TTL:PT1H
BEGIN:VTIMEZONE
TZID:Asia/Tokyo
BEGIN:STANDARD
TZOFFSETFROM:+0900
TZOFFSETTO:+0900
TZNAME:JST
DTSTART:20240101T000000
END:STANDARD
END:VTIMEZONE
BEGIN:VEVENT
DTSTART;TZID=Asia/Tokyo:20251214T100000
DTEND;TZID=Asia/Tokyo:20251214T160000
DTSTAMP:20260421T055220
CREATED:20251127T013722Z
LAST-MODIFIED:20251127T014554Z
UID:10010903-1765706400-1765728000@hidasanmyaku-gifu.jp
SUMMARY:ミニ・クリスマスツリー
DESCRIPTION:まつぼっくりを使った、自分だけのミニクリスマスツリーを作りましょう！\n白樺の台座に松ぼっくりを使って、ミニクリスマスツリーを飾りましょう！\nオリジナルの可愛いツリーができあがりますよ♪ \n作成時間：約１時間弱（10時～12時、13時～16時まで随時受付） \n※開催日や時間などは都合により変更になる場合があります。詳しくはお問合せ下さい。 \nお申し込みはこちら
URL:https://hidasanmyaku-gifu.jp/okuhida-vc/event/mini-christmas-tree-2/2025-12-14/
LOCATION:中部山岳国立公園奥飛驒ビジターセンター\, 奥飛騨温泉郷平湯763-12\, 高山市\, 岐阜県\, 506-1433\, 日本
CATEGORIES:館内イベント
ATTACH;FMTTYPE=image/jpeg:https://hidasanmyaku-gifu.jp/okuhida-vc/wp-content/uploads/2024/11/ミニクリスマスツリー-1.jpg
END:VEVENT
BEGIN:VEVENT
DTSTART;TZID=Asia/Tokyo:20251213T100000
DTEND;TZID=Asia/Tokyo:20251213T160000
DTSTAMP:20260421T055220
CREATED:20251127T013722Z
LAST-MODIFIED:20251127T014554Z
UID:10010902-1765620000-1765641600@hidasanmyaku-gifu.jp
SUMMARY:ミニ・クリスマスツリー
DESCRIPTION:まつぼっくりを使った、自分だけのミニクリスマスツリーを作りましょう！\n白樺の台座に松ぼっくりを使って、ミニクリスマスツリーを飾りましょう！\nオリジナルの可愛いツリーができあがりますよ♪ \n作成時間：約１時間弱（10時～12時、13時～16時まで随時受付） \n※開催日や時間などは都合により変更になる場合があります。詳しくはお問合せ下さい。 \nお申し込みはこちら
URL:https://hidasanmyaku-gifu.jp/okuhida-vc/event/mini-christmas-tree-2/2025-12-13/
LOCATION:中部山岳国立公園奥飛驒ビジターセンター\, 奥飛騨温泉郷平湯763-12\, 高山市\, 岐阜県\, 506-1433\, 日本
CATEGORIES:館内イベント
ATTACH;FMTTYPE=image/jpeg:https://hidasanmyaku-gifu.jp/okuhida-vc/wp-content/uploads/2024/11/ミニクリスマスツリー-1.jpg
END:VEVENT
BEGIN:VEVENT
DTSTART;TZID=Asia/Tokyo:20251212T100000
DTEND;TZID=Asia/Tokyo:20251212T160000
DTSTAMP:20260421T055220
CREATED:20251127T013722Z
LAST-MODIFIED:20251127T014554Z
UID:10010901-1765533600-1765555200@hidasanmyaku-gifu.jp
SUMMARY:ミニ・クリスマスツリー
DESCRIPTION:まつぼっくりを使った、自分だけのミニクリスマスツリーを作りましょう！\n白樺の台座に松ぼっくりを使って、ミニクリスマスツリーを飾りましょう！\nオリジナルの可愛いツリーができあがりますよ♪ \n作成時間：約１時間弱（10時～12時、13時～16時まで随時受付） \n※開催日や時間などは都合により変更になる場合があります。詳しくはお問合せ下さい。 \nお申し込みはこちら
URL:https://hidasanmyaku-gifu.jp/okuhida-vc/event/mini-christmas-tree-2/2025-12-12/
LOCATION:中部山岳国立公園奥飛驒ビジターセンター\, 奥飛騨温泉郷平湯763-12\, 高山市\, 岐阜県\, 506-1433\, 日本
CATEGORIES:館内イベント
ATTACH;FMTTYPE=image/jpeg:https://hidasanmyaku-gifu.jp/okuhida-vc/wp-content/uploads/2024/11/ミニクリスマスツリー-1.jpg
END:VEVENT
BEGIN:VEVENT
DTSTART;TZID=Asia/Tokyo:20251211T100000
DTEND;TZID=Asia/Tokyo:20251211T160000
DTSTAMP:20260421T055220
CREATED:20251127T013722Z
LAST-MODIFIED:20251127T014554Z
UID:10010900-1765447200-1765468800@hidasanmyaku-gifu.jp
SUMMARY:ミニ・クリスマスツリー
DESCRIPTION:まつぼっくりを使った、自分だけのミニクリスマスツリーを作りましょう！\n白樺の台座に松ぼっくりを使って、ミニクリスマスツリーを飾りましょう！\nオリジナルの可愛いツリーができあがりますよ♪ \n作成時間：約１時間弱（10時～12時、13時～16時まで随時受付） \n※開催日や時間などは都合により変更になる場合があります。詳しくはお問合せ下さい。 \nお申し込みはこちら
URL:https://hidasanmyaku-gifu.jp/okuhida-vc/event/mini-christmas-tree-2/2025-12-11/
LOCATION:中部山岳国立公園奥飛驒ビジターセンター\, 奥飛騨温泉郷平湯763-12\, 高山市\, 岐阜県\, 506-1433\, 日本
CATEGORIES:館内イベント
ATTACH;FMTTYPE=image/jpeg:https://hidasanmyaku-gifu.jp/okuhida-vc/wp-content/uploads/2024/11/ミニクリスマスツリー-1.jpg
END:VEVENT
BEGIN:VEVENT
DTSTART;TZID=Asia/Tokyo:20251209T100000
DTEND;TZID=Asia/Tokyo:20251209T160000
DTSTAMP:20260421T055220
CREATED:20251127T013722Z
LAST-MODIFIED:20251127T014554Z
UID:10010899-1765274400-1765296000@hidasanmyaku-gifu.jp
SUMMARY:ミニ・クリスマスツリー
DESCRIPTION:まつぼっくりを使った、自分だけのミニクリスマスツリーを作りましょう！\n白樺の台座に松ぼっくりを使って、ミニクリスマスツリーを飾りましょう！\nオリジナルの可愛いツリーができあがりますよ♪ \n作成時間：約１時間弱（10時～12時、13時～16時まで随時受付） \n※開催日や時間などは都合により変更になる場合があります。詳しくはお問合せ下さい。 \nお申し込みはこちら
URL:https://hidasanmyaku-gifu.jp/okuhida-vc/event/mini-christmas-tree-2/2025-12-09/
LOCATION:中部山岳国立公園奥飛驒ビジターセンター\, 奥飛騨温泉郷平湯763-12\, 高山市\, 岐阜県\, 506-1433\, 日本
CATEGORIES:館内イベント
ATTACH;FMTTYPE=image/jpeg:https://hidasanmyaku-gifu.jp/okuhida-vc/wp-content/uploads/2024/11/ミニクリスマスツリー-1.jpg
END:VEVENT
BEGIN:VEVENT
DTSTART;TZID=Asia/Tokyo:20251208T100000
DTEND;TZID=Asia/Tokyo:20251208T160000
DTSTAMP:20260421T055220
CREATED:20251127T013722Z
LAST-MODIFIED:20251127T014554Z
UID:10010898-1765188000-1765209600@hidasanmyaku-gifu.jp
SUMMARY:ミニ・クリスマスツリー
DESCRIPTION:まつぼっくりを使った、自分だけのミニクリスマスツリーを作りましょう！\n白樺の台座に松ぼっくりを使って、ミニクリスマスツリーを飾りましょう！\nオリジナルの可愛いツリーができあがりますよ♪ \n作成時間：約１時間弱（10時～12時、13時～16時まで随時受付） \n※開催日や時間などは都合により変更になる場合があります。詳しくはお問合せ下さい。 \nお申し込みはこちら
URL:https://hidasanmyaku-gifu.jp/okuhida-vc/event/mini-christmas-tree-2/2025-12-08/
LOCATION:中部山岳国立公園奥飛驒ビジターセンター\, 奥飛騨温泉郷平湯763-12\, 高山市\, 岐阜県\, 506-1433\, 日本
CATEGORIES:館内イベント
ATTACH;FMTTYPE=image/jpeg:https://hidasanmyaku-gifu.jp/okuhida-vc/wp-content/uploads/2024/11/ミニクリスマスツリー-1.jpg
END:VEVENT
BEGIN:VEVENT
DTSTART;TZID=Asia/Tokyo:20251207T100000
DTEND;TZID=Asia/Tokyo:20251207T160000
DTSTAMP:20260421T055220
CREATED:20251127T013722Z
LAST-MODIFIED:20251127T014554Z
UID:10010897-1765101600-1765123200@hidasanmyaku-gifu.jp
SUMMARY:ミニ・クリスマスツリー
DESCRIPTION:まつぼっくりを使った、自分だけのミニクリスマスツリーを作りましょう！\n白樺の台座に松ぼっくりを使って、ミニクリスマスツリーを飾りましょう！\nオリジナルの可愛いツリーができあがりますよ♪ \n作成時間：約１時間弱（10時～12時、13時～16時まで随時受付） \n※開催日や時間などは都合により変更になる場合があります。詳しくはお問合せ下さい。 \nお申し込みはこちら
URL:https://hidasanmyaku-gifu.jp/okuhida-vc/event/mini-christmas-tree-2/2025-12-07/
LOCATION:中部山岳国立公園奥飛驒ビジターセンター\, 奥飛騨温泉郷平湯763-12\, 高山市\, 岐阜県\, 506-1433\, 日本
CATEGORIES:館内イベント
ATTACH;FMTTYPE=image/jpeg:https://hidasanmyaku-gifu.jp/okuhida-vc/wp-content/uploads/2024/11/ミニクリスマスツリー-1.jpg
END:VEVENT
BEGIN:VEVENT
DTSTART;TZID=Asia/Tokyo:20251206T100000
DTEND;TZID=Asia/Tokyo:20251206T160000
DTSTAMP:20260421T055220
CREATED:20251127T013722Z
LAST-MODIFIED:20251127T014554Z
UID:10010896-1765015200-1765036800@hidasanmyaku-gifu.jp
SUMMARY:ミニ・クリスマスツリー
DESCRIPTION:まつぼっくりを使った、自分だけのミニクリスマスツリーを作りましょう！\n白樺の台座に松ぼっくりを使って、ミニクリスマスツリーを飾りましょう！\nオリジナルの可愛いツリーができあがりますよ♪ \n作成時間：約１時間弱（10時～12時、13時～16時まで随時受付） \n※開催日や時間などは都合により変更になる場合があります。詳しくはお問合せ下さい。 \nお申し込みはこちら
URL:https://hidasanmyaku-gifu.jp/okuhida-vc/event/mini-christmas-tree-2/2025-12-06/
LOCATION:中部山岳国立公園奥飛驒ビジターセンター\, 奥飛騨温泉郷平湯763-12\, 高山市\, 岐阜県\, 506-1433\, 日本
CATEGORIES:館内イベント
ATTACH;FMTTYPE=image/jpeg:https://hidasanmyaku-gifu.jp/okuhida-vc/wp-content/uploads/2024/11/ミニクリスマスツリー-1.jpg
END:VEVENT
BEGIN:VEVENT
DTSTART;TZID=Asia/Tokyo:20251205T100000
DTEND;TZID=Asia/Tokyo:20251205T160000
DTSTAMP:20260421T055221
CREATED:20251127T013722Z
LAST-MODIFIED:20251127T014554Z
UID:10010895-1764928800-1764950400@hidasanmyaku-gifu.jp
SUMMARY:ミニ・クリスマスツリー
DESCRIPTION:まつぼっくりを使った、自分だけのミニクリスマスツリーを作りましょう！\n白樺の台座に松ぼっくりを使って、ミニクリスマスツリーを飾りましょう！\nオリジナルの可愛いツリーができあがりますよ♪ \n作成時間：約１時間弱（10時～12時、13時～16時まで随時受付） \n※開催日や時間などは都合により変更になる場合があります。詳しくはお問合せ下さい。 \nお申し込みはこちら
URL:https://hidasanmyaku-gifu.jp/okuhida-vc/event/mini-christmas-tree-2/2025-12-05/
LOCATION:中部山岳国立公園奥飛驒ビジターセンター\, 奥飛騨温泉郷平湯763-12\, 高山市\, 岐阜県\, 506-1433\, 日本
CATEGORIES:館内イベント
ATTACH;FMTTYPE=image/jpeg:https://hidasanmyaku-gifu.jp/okuhida-vc/wp-content/uploads/2024/11/ミニクリスマスツリー-1.jpg
END:VEVENT
BEGIN:VEVENT
DTSTART;TZID=Asia/Tokyo:20251204T100000
DTEND;TZID=Asia/Tokyo:20251204T160000
DTSTAMP:20260421T055221
CREATED:20251127T013722Z
LAST-MODIFIED:20251127T014554Z
UID:10010894-1764842400-1764864000@hidasanmyaku-gifu.jp
SUMMARY:ミニ・クリスマスツリー
DESCRIPTION:まつぼっくりを使った、自分だけのミニクリスマスツリーを作りましょう！\n白樺の台座に松ぼっくりを使って、ミニクリスマスツリーを飾りましょう！\nオリジナルの可愛いツリーができあがりますよ♪ \n作成時間：約１時間弱（10時～12時、13時～16時まで随時受付） \n※開催日や時間などは都合により変更になる場合があります。詳しくはお問合せ下さい。 \nお申し込みはこちら
URL:https://hidasanmyaku-gifu.jp/okuhida-vc/event/mini-christmas-tree-2/2025-12-04/
LOCATION:中部山岳国立公園奥飛驒ビジターセンター\, 奥飛騨温泉郷平湯763-12\, 高山市\, 岐阜県\, 506-1433\, 日本
CATEGORIES:館内イベント
ATTACH;FMTTYPE=image/jpeg:https://hidasanmyaku-gifu.jp/okuhida-vc/wp-content/uploads/2024/11/ミニクリスマスツリー-1.jpg
END:VEVENT
BEGIN:VEVENT
DTSTART;TZID=Asia/Tokyo:20251202T100000
DTEND;TZID=Asia/Tokyo:20251202T160000
DTSTAMP:20260421T055221
CREATED:20251127T013722Z
LAST-MODIFIED:20251127T014554Z
UID:10010893-1764669600-1764691200@hidasanmyaku-gifu.jp
SUMMARY:ミニ・クリスマスツリー
DESCRIPTION:まつぼっくりを使った、自分だけのミニクリスマスツリーを作りましょう！\n白樺の台座に松ぼっくりを使って、ミニクリスマスツリーを飾りましょう！\nオリジナルの可愛いツリーができあがりますよ♪ \n作成時間：約１時間弱（10時～12時、13時～16時まで随時受付） \n※開催日や時間などは都合により変更になる場合があります。詳しくはお問合せ下さい。 \nお申し込みはこちら
URL:https://hidasanmyaku-gifu.jp/okuhida-vc/event/mini-christmas-tree-2/2025-12-02/
LOCATION:中部山岳国立公園奥飛驒ビジターセンター\, 奥飛騨温泉郷平湯763-12\, 高山市\, 岐阜県\, 506-1433\, 日本
CATEGORIES:館内イベント
ATTACH;FMTTYPE=image/jpeg:https://hidasanmyaku-gifu.jp/okuhida-vc/wp-content/uploads/2024/11/ミニクリスマスツリー-1.jpg
END:VEVENT
BEGIN:VEVENT
DTSTART;TZID=Asia/Tokyo:20251201T100000
DTEND;TZID=Asia/Tokyo:20251201T160000
DTSTAMP:20260421T055221
CREATED:20251127T013722Z
LAST-MODIFIED:20251127T014554Z
UID:10006680-1764583200-1764604800@hidasanmyaku-gifu.jp
SUMMARY:ミニ・クリスマスツリー
DESCRIPTION:まつぼっくりを使った、自分だけのミニクリスマスツリーを作りましょう！\n白樺の台座に松ぼっくりを使って、ミニクリスマスツリーを飾りましょう！\nオリジナルの可愛いツリーができあがりますよ♪ \n作成時間：約１時間弱（10時～12時、13時～16時まで随時受付） \n※開催日や時間などは都合により変更になる場合があります。詳しくはお問合せ下さい。 \nお申し込みはこちら
URL:https://hidasanmyaku-gifu.jp/okuhida-vc/event/mini-christmas-tree-2/2025-12-01/
LOCATION:中部山岳国立公園奥飛驒ビジターセンター\, 奥飛騨温泉郷平湯763-12\, 高山市\, 岐阜県\, 506-1433\, 日本
CATEGORIES:館内イベント
ATTACH;FMTTYPE=image/jpeg:https://hidasanmyaku-gifu.jp/okuhida-vc/wp-content/uploads/2024/11/ミニクリスマスツリー-1.jpg
END:VEVENT
BEGIN:VEVENT
DTSTART;TZID=Asia/Tokyo:20250429T100000
DTEND;TZID=Asia/Tokyo:20250429T160000
DTSTAMP:20260421T055221
CREATED:20241229T054830Z
LAST-MODIFIED:20250328T004740Z
UID:10007909-1745920800-1745942400@hidasanmyaku-gifu.jp
SUMMARY:自然素材でフォトフレームを作ろう！
DESCRIPTION:どんぐりやまつぼっくり、その他いろんな自然素材を使ってオリジナルのフォトフレームを作りましょう！\nお申し込みはこちら
URL:https://hidasanmyaku-gifu.jp/okuhida-vc/event/fyoto/2025-04-29/
LOCATION:中部山岳国立公園奥飛驒ビジターセンター\, 奥飛騨温泉郷平湯763-12\, 高山市\, 岐阜県\, 506-1433\, 日本
CATEGORIES:館内イベント
ATTACH;FMTTYPE=image/jpeg:https://hidasanmyaku-gifu.jp/okuhida-vc/wp-content/uploads/2024/12/フォトフレーム.jpg
END:VEVENT
BEGIN:VEVENT
DTSTART;TZID=Asia/Tokyo:20250428T100000
DTEND;TZID=Asia/Tokyo:20250428T160000
DTSTAMP:20260421T055221
CREATED:20241229T054830Z
LAST-MODIFIED:20250328T004740Z
UID:10007908-1745834400-1745856000@hidasanmyaku-gifu.jp
SUMMARY:自然素材でフォトフレームを作ろう！
DESCRIPTION:どんぐりやまつぼっくり、その他いろんな自然素材を使ってオリジナルのフォトフレームを作りましょう！\nお申し込みはこちら
URL:https://hidasanmyaku-gifu.jp/okuhida-vc/event/fyoto/2025-04-28/
LOCATION:中部山岳国立公園奥飛驒ビジターセンター\, 奥飛騨温泉郷平湯763-12\, 高山市\, 岐阜県\, 506-1433\, 日本
CATEGORIES:館内イベント
ATTACH;FMTTYPE=image/jpeg:https://hidasanmyaku-gifu.jp/okuhida-vc/wp-content/uploads/2024/12/フォトフレーム.jpg
END:VEVENT
BEGIN:VEVENT
DTSTART;TZID=Asia/Tokyo:20250428T100000
DTEND;TZID=Asia/Tokyo:20250428T160000
DTSTAMP:20260421T055221
CREATED:20241229T054430Z
LAST-MODIFIED:20250328T004905Z
UID:10007933-1745834400-1745856000@hidasanmyaku-gifu.jp
SUMMARY:森の妖精作り
DESCRIPTION:どんぐりやまつぼっくりなどを使って自分だけのオリジナル妖精を作ってみましょう！ \nどんな妖精ができるかな？ \nお申し込みはこちら
URL:https://hidasanmyaku-gifu.jp/okuhida-vc/event/yousei/2025-04-28/
LOCATION:中部山岳国立公園奥飛驒ビジターセンター\, 奥飛騨温泉郷平湯763-12\, 高山市\, 岐阜県\, 506-1433\, 日本
CATEGORIES:館内イベント
ATTACH;FMTTYPE=application/pdf:https://hidasanmyaku-gifu.jp/okuhida-vc/wp-content/uploads/2024/12/森の妖精.pdf
END:VEVENT
BEGIN:VEVENT
DTSTART;TZID=Asia/Tokyo:20250427T100000
DTEND;TZID=Asia/Tokyo:20250427T160000
DTSTAMP:20260421T055221
CREATED:20241229T054830Z
LAST-MODIFIED:20250328T004740Z
UID:10007907-1745748000-1745769600@hidasanmyaku-gifu.jp
SUMMARY:自然素材でフォトフレームを作ろう！
DESCRIPTION:どんぐりやまつぼっくり、その他いろんな自然素材を使ってオリジナルのフォトフレームを作りましょう！\nお申し込みはこちら
URL:https://hidasanmyaku-gifu.jp/okuhida-vc/event/fyoto/2025-04-27/
LOCATION:中部山岳国立公園奥飛驒ビジターセンター\, 奥飛騨温泉郷平湯763-12\, 高山市\, 岐阜県\, 506-1433\, 日本
CATEGORIES:館内イベント
ATTACH;FMTTYPE=image/jpeg:https://hidasanmyaku-gifu.jp/okuhida-vc/wp-content/uploads/2024/12/フォトフレーム.jpg
END:VEVENT
BEGIN:VEVENT
DTSTART;TZID=Asia/Tokyo:20250427T100000
DTEND;TZID=Asia/Tokyo:20250427T160000
DTSTAMP:20260421T055221
CREATED:20241229T054430Z
LAST-MODIFIED:20250328T004905Z
UID:10007932-1745748000-1745769600@hidasanmyaku-gifu.jp
SUMMARY:森の妖精作り
DESCRIPTION:どんぐりやまつぼっくりなどを使って自分だけのオリジナル妖精を作ってみましょう！ \nどんな妖精ができるかな？ \nお申し込みはこちら
URL:https://hidasanmyaku-gifu.jp/okuhida-vc/event/yousei/2025-04-27/
LOCATION:中部山岳国立公園奥飛驒ビジターセンター\, 奥飛騨温泉郷平湯763-12\, 高山市\, 岐阜県\, 506-1433\, 日本
CATEGORIES:館内イベント
ATTACH;FMTTYPE=application/pdf:https://hidasanmyaku-gifu.jp/okuhida-vc/wp-content/uploads/2024/12/森の妖精.pdf
END:VEVENT
BEGIN:VEVENT
DTSTART;TZID=Asia/Tokyo:20250426T100000
DTEND;TZID=Asia/Tokyo:20250426T160000
DTSTAMP:20260421T055221
CREATED:20241229T054830Z
LAST-MODIFIED:20250328T004740Z
UID:10007906-1745661600-1745683200@hidasanmyaku-gifu.jp
SUMMARY:自然素材でフォトフレームを作ろう！
DESCRIPTION:どんぐりやまつぼっくり、その他いろんな自然素材を使ってオリジナルのフォトフレームを作りましょう！\nお申し込みはこちら
URL:https://hidasanmyaku-gifu.jp/okuhida-vc/event/fyoto/2025-04-26/
LOCATION:中部山岳国立公園奥飛驒ビジターセンター\, 奥飛騨温泉郷平湯763-12\, 高山市\, 岐阜県\, 506-1433\, 日本
CATEGORIES:館内イベント
ATTACH;FMTTYPE=image/jpeg:https://hidasanmyaku-gifu.jp/okuhida-vc/wp-content/uploads/2024/12/フォトフレーム.jpg
END:VEVENT
BEGIN:VEVENT
DTSTART;TZID=Asia/Tokyo:20250426T100000
DTEND;TZID=Asia/Tokyo:20250426T160000
DTSTAMP:20260421T055221
CREATED:20241229T054430Z
LAST-MODIFIED:20250328T004905Z
UID:10007931-1745661600-1745683200@hidasanmyaku-gifu.jp
SUMMARY:森の妖精作り
DESCRIPTION:どんぐりやまつぼっくりなどを使って自分だけのオリジナル妖精を作ってみましょう！ \nどんな妖精ができるかな？ \nお申し込みはこちら
URL:https://hidasanmyaku-gifu.jp/okuhida-vc/event/yousei/2025-04-26/
LOCATION:中部山岳国立公園奥飛驒ビジターセンター\, 奥飛騨温泉郷平湯763-12\, 高山市\, 岐阜県\, 506-1433\, 日本
CATEGORIES:館内イベント
ATTACH;FMTTYPE=application/pdf:https://hidasanmyaku-gifu.jp/okuhida-vc/wp-content/uploads/2024/12/森の妖精.pdf
END:VEVENT
BEGIN:VEVENT
DTSTART;TZID=Asia/Tokyo:20250425T100000
DTEND;TZID=Asia/Tokyo:20250425T160000
DTSTAMP:20260421T055221
CREATED:20241229T054830Z
LAST-MODIFIED:20250328T004740Z
UID:10007905-1745575200-1745596800@hidasanmyaku-gifu.jp
SUMMARY:自然素材でフォトフレームを作ろう！
DESCRIPTION:どんぐりやまつぼっくり、その他いろんな自然素材を使ってオリジナルのフォトフレームを作りましょう！\nお申し込みはこちら
URL:https://hidasanmyaku-gifu.jp/okuhida-vc/event/fyoto/2025-04-25/
LOCATION:中部山岳国立公園奥飛驒ビジターセンター\, 奥飛騨温泉郷平湯763-12\, 高山市\, 岐阜県\, 506-1433\, 日本
CATEGORIES:館内イベント
ATTACH;FMTTYPE=image/jpeg:https://hidasanmyaku-gifu.jp/okuhida-vc/wp-content/uploads/2024/12/フォトフレーム.jpg
END:VEVENT
BEGIN:VEVENT
DTSTART;TZID=Asia/Tokyo:20250425T100000
DTEND;TZID=Asia/Tokyo:20250425T160000
DTSTAMP:20260421T055221
CREATED:20241229T054430Z
LAST-MODIFIED:20250328T004905Z
UID:10007930-1745575200-1745596800@hidasanmyaku-gifu.jp
SUMMARY:森の妖精作り
DESCRIPTION:どんぐりやまつぼっくりなどを使って自分だけのオリジナル妖精を作ってみましょう！ \nどんな妖精ができるかな？ \nお申し込みはこちら
URL:https://hidasanmyaku-gifu.jp/okuhida-vc/event/yousei/2025-04-25/
LOCATION:中部山岳国立公園奥飛驒ビジターセンター\, 奥飛騨温泉郷平湯763-12\, 高山市\, 岐阜県\, 506-1433\, 日本
CATEGORIES:館内イベント
ATTACH;FMTTYPE=application/pdf:https://hidasanmyaku-gifu.jp/okuhida-vc/wp-content/uploads/2024/12/森の妖精.pdf
END:VEVENT
BEGIN:VEVENT
DTSTART;TZID=Asia/Tokyo:20250424T100000
DTEND;TZID=Asia/Tokyo:20250424T160000
DTSTAMP:20260421T055221
CREATED:20241229T054830Z
LAST-MODIFIED:20250328T004740Z
UID:10007904-1745488800-1745510400@hidasanmyaku-gifu.jp
SUMMARY:自然素材でフォトフレームを作ろう！
DESCRIPTION:どんぐりやまつぼっくり、その他いろんな自然素材を使ってオリジナルのフォトフレームを作りましょう！\nお申し込みはこちら
URL:https://hidasanmyaku-gifu.jp/okuhida-vc/event/fyoto/2025-04-24/
LOCATION:中部山岳国立公園奥飛驒ビジターセンター\, 奥飛騨温泉郷平湯763-12\, 高山市\, 岐阜県\, 506-1433\, 日本
CATEGORIES:館内イベント
ATTACH;FMTTYPE=image/jpeg:https://hidasanmyaku-gifu.jp/okuhida-vc/wp-content/uploads/2024/12/フォトフレーム.jpg
END:VEVENT
BEGIN:VEVENT
DTSTART;TZID=Asia/Tokyo:20250424T100000
DTEND;TZID=Asia/Tokyo:20250424T160000
DTSTAMP:20260421T055221
CREATED:20241229T054430Z
LAST-MODIFIED:20250328T004905Z
UID:10007929-1745488800-1745510400@hidasanmyaku-gifu.jp
SUMMARY:森の妖精作り
DESCRIPTION:どんぐりやまつぼっくりなどを使って自分だけのオリジナル妖精を作ってみましょう！ \nどんな妖精ができるかな？ \nお申し込みはこちら
URL:https://hidasanmyaku-gifu.jp/okuhida-vc/event/yousei/2025-04-24/
LOCATION:中部山岳国立公園奥飛驒ビジターセンター\, 奥飛騨温泉郷平湯763-12\, 高山市\, 岐阜県\, 506-1433\, 日本
CATEGORIES:館内イベント
ATTACH;FMTTYPE=application/pdf:https://hidasanmyaku-gifu.jp/okuhida-vc/wp-content/uploads/2024/12/森の妖精.pdf
END:VEVENT
BEGIN:VEVENT
DTSTART;TZID=Asia/Tokyo:20250422T100000
DTEND;TZID=Asia/Tokyo:20250422T160000
DTSTAMP:20260421T055221
CREATED:20241229T054830Z
LAST-MODIFIED:20250328T004740Z
UID:10007903-1745316000-1745337600@hidasanmyaku-gifu.jp
SUMMARY:自然素材でフォトフレームを作ろう！
DESCRIPTION:どんぐりやまつぼっくり、その他いろんな自然素材を使ってオリジナルのフォトフレームを作りましょう！\nお申し込みはこちら
URL:https://hidasanmyaku-gifu.jp/okuhida-vc/event/fyoto/2025-04-22/
LOCATION:中部山岳国立公園奥飛驒ビジターセンター\, 奥飛騨温泉郷平湯763-12\, 高山市\, 岐阜県\, 506-1433\, 日本
CATEGORIES:館内イベント
ATTACH;FMTTYPE=image/jpeg:https://hidasanmyaku-gifu.jp/okuhida-vc/wp-content/uploads/2024/12/フォトフレーム.jpg
END:VEVENT
BEGIN:VEVENT
DTSTART;TZID=Asia/Tokyo:20250422T100000
DTEND;TZID=Asia/Tokyo:20250422T160000
DTSTAMP:20260421T055221
CREATED:20241229T054430Z
LAST-MODIFIED:20250328T004905Z
UID:10007928-1745316000-1745337600@hidasanmyaku-gifu.jp
SUMMARY:森の妖精作り
DESCRIPTION:どんぐりやまつぼっくりなどを使って自分だけのオリジナル妖精を作ってみましょう！ \nどんな妖精ができるかな？ \nお申し込みはこちら
URL:https://hidasanmyaku-gifu.jp/okuhida-vc/event/yousei/2025-04-22/
LOCATION:中部山岳国立公園奥飛驒ビジターセンター\, 奥飛騨温泉郷平湯763-12\, 高山市\, 岐阜県\, 506-1433\, 日本
CATEGORIES:館内イベント
ATTACH;FMTTYPE=application/pdf:https://hidasanmyaku-gifu.jp/okuhida-vc/wp-content/uploads/2024/12/森の妖精.pdf
END:VEVENT
BEGIN:VEVENT
DTSTART;TZID=Asia/Tokyo:20250421T100000
DTEND;TZID=Asia/Tokyo:20250421T160000
DTSTAMP:20260421T055221
CREATED:20241229T054830Z
LAST-MODIFIED:20250328T004740Z
UID:10007902-1745229600-1745251200@hidasanmyaku-gifu.jp
SUMMARY:自然素材でフォトフレームを作ろう！
DESCRIPTION:どんぐりやまつぼっくり、その他いろんな自然素材を使ってオリジナルのフォトフレームを作りましょう！\nお申し込みはこちら
URL:https://hidasanmyaku-gifu.jp/okuhida-vc/event/fyoto/2025-04-21/
LOCATION:中部山岳国立公園奥飛驒ビジターセンター\, 奥飛騨温泉郷平湯763-12\, 高山市\, 岐阜県\, 506-1433\, 日本
CATEGORIES:館内イベント
ATTACH;FMTTYPE=image/jpeg:https://hidasanmyaku-gifu.jp/okuhida-vc/wp-content/uploads/2024/12/フォトフレーム.jpg
END:VEVENT
BEGIN:VEVENT
DTSTART;TZID=Asia/Tokyo:20250421T100000
DTEND;TZID=Asia/Tokyo:20250421T160000
DTSTAMP:20260421T055221
CREATED:20241229T054430Z
LAST-MODIFIED:20250328T004905Z
UID:10007927-1745229600-1745251200@hidasanmyaku-gifu.jp
SUMMARY:森の妖精作り
DESCRIPTION:どんぐりやまつぼっくりなどを使って自分だけのオリジナル妖精を作ってみましょう！ \nどんな妖精ができるかな？ \nお申し込みはこちら
URL:https://hidasanmyaku-gifu.jp/okuhida-vc/event/yousei/2025-04-21/
LOCATION:中部山岳国立公園奥飛驒ビジターセンター\, 奥飛騨温泉郷平湯763-12\, 高山市\, 岐阜県\, 506-1433\, 日本
CATEGORIES:館内イベント
ATTACH;FMTTYPE=application/pdf:https://hidasanmyaku-gifu.jp/okuhida-vc/wp-content/uploads/2024/12/森の妖精.pdf
END:VEVENT
BEGIN:VEVENT
DTSTART;TZID=Asia/Tokyo:20250420T100000
DTEND;TZID=Asia/Tokyo:20250420T160000
DTSTAMP:20260421T055221
CREATED:20241229T054830Z
LAST-MODIFIED:20250328T004740Z
UID:10007901-1745143200-1745164800@hidasanmyaku-gifu.jp
SUMMARY:自然素材でフォトフレームを作ろう！
DESCRIPTION:どんぐりやまつぼっくり、その他いろんな自然素材を使ってオリジナルのフォトフレームを作りましょう！\nお申し込みはこちら
URL:https://hidasanmyaku-gifu.jp/okuhida-vc/event/fyoto/2025-04-20/
LOCATION:中部山岳国立公園奥飛驒ビジターセンター\, 奥飛騨温泉郷平湯763-12\, 高山市\, 岐阜県\, 506-1433\, 日本
CATEGORIES:館内イベント
ATTACH;FMTTYPE=image/jpeg:https://hidasanmyaku-gifu.jp/okuhida-vc/wp-content/uploads/2024/12/フォトフレーム.jpg
END:VEVENT
BEGIN:VEVENT
DTSTART;TZID=Asia/Tokyo:20250420T100000
DTEND;TZID=Asia/Tokyo:20250420T160000
DTSTAMP:20260421T055221
CREATED:20241229T054430Z
LAST-MODIFIED:20250328T004905Z
UID:10007926-1745143200-1745164800@hidasanmyaku-gifu.jp
SUMMARY:森の妖精作り
DESCRIPTION:どんぐりやまつぼっくりなどを使って自分だけのオリジナル妖精を作ってみましょう！ \nどんな妖精ができるかな？ \nお申し込みはこちら
URL:https://hidasanmyaku-gifu.jp/okuhida-vc/event/yousei/2025-04-20/
LOCATION:中部山岳国立公園奥飛驒ビジターセンター\, 奥飛騨温泉郷平湯763-12\, 高山市\, 岐阜県\, 506-1433\, 日本
CATEGORIES:館内イベント
ATTACH;FMTTYPE=application/pdf:https://hidasanmyaku-gifu.jp/okuhida-vc/wp-content/uploads/2024/12/森の妖精.pdf
END:VEVENT
BEGIN:VEVENT
DTSTART;TZID=Asia/Tokyo:20250419T100000
DTEND;TZID=Asia/Tokyo:20250419T160000
DTSTAMP:20260421T055221
CREATED:20241229T054830Z
LAST-MODIFIED:20250328T004740Z
UID:10007900-1745056800-1745078400@hidasanmyaku-gifu.jp
SUMMARY:自然素材でフォトフレームを作ろう！
DESCRIPTION:どんぐりやまつぼっくり、その他いろんな自然素材を使ってオリジナルのフォトフレームを作りましょう！\nお申し込みはこちら
URL:https://hidasanmyaku-gifu.jp/okuhida-vc/event/fyoto/2025-04-19/
LOCATION:中部山岳国立公園奥飛驒ビジターセンター\, 奥飛騨温泉郷平湯763-12\, 高山市\, 岐阜県\, 506-1433\, 日本
CATEGORIES:館内イベント
ATTACH;FMTTYPE=image/jpeg:https://hidasanmyaku-gifu.jp/okuhida-vc/wp-content/uploads/2024/12/フォトフレーム.jpg
END:VEVENT
END:VCALENDAR