BEGIN:VCALENDAR
VERSION:2.0
PRODID:-//中部山岳国立公園奥飛驒ビジターセンター - ECPv6.15.17.1//NONSGML v1.0//EN
CALSCALE:GREGORIAN
METHOD:PUBLISH
X-WR-CALNAME:中部山岳国立公園奥飛驒ビジターセンター
X-ORIGINAL-URL:https://hidasanmyaku-gifu.jp/okuhida-vc
X-WR-CALDESC:中部山岳国立公園奥飛驒ビジターセンター のイベント
REFRESH-INTERVAL;VALUE=DURATION:PT1H
X-Robots-Tag:noindex
X-PUBLISHED-TTL:PT1H
BEGIN:VTIMEZONE
TZID:Asia/Tokyo
BEGIN:STANDARD
TZOFFSETFROM:+0900
TZOFFSETTO:+0900
TZNAME:JST
DTSTART:20240101T000000
END:STANDARD
END:VTIMEZONE
BEGIN:VEVENT
DTSTART;TZID=Asia/Tokyo:20250705T090000
DTEND;TZID=Asia/Tokyo:20250705T120000
DTSTAMP:20260421T223238
CREATED:20250626T074125Z
LAST-MODIFIED:20250626T074125Z
UID:10010316-1751706000-1751716800@hidasanmyaku-gifu.jp
SUMMARY:自然散策ガイドツアー・平湯自然探勝路コース
DESCRIPTION:初夏を感じる森１時間コース：平湯自然探勝路\n１名：１，０００円（小学生以下は保護者同伴） \nAM9：00～10：00　or　AM11：00～12：00　（お好きな時間をお選び下さい） \n小雨決行（雨具持参）、歩きやすい靴でお越しください。 \nお申し込みはこちら
URL:https://hidasanmyaku-gifu.jp/okuhida-vc/event/tua-7-1/2025-07-05/
LOCATION:中部山岳国立公園奥飛驒ビジターセンター\, 奥飛騨温泉郷平湯763-12\, 高山市\, 岐阜県\, 506-1433\, 日本
CATEGORIES:周辺イベント
ATTACH;FMTTYPE=image/png:https://hidasanmyaku-gifu.jp/okuhida-vc/wp-content/uploads/2025/06/★チラシ裏最終.png
END:VEVENT
BEGIN:VEVENT
DTSTART;TZID=Asia/Tokyo:20250706T090000
DTEND;TZID=Asia/Tokyo:20250706T120000
DTSTAMP:20260421T223238
CREATED:20250626T074125Z
LAST-MODIFIED:20250626T074125Z
UID:10010318-1751792400-1751803200@hidasanmyaku-gifu.jp
SUMMARY:自然散策ガイドツアー・平湯自然探勝路コース
DESCRIPTION:初夏を感じる森１時間コース：平湯自然探勝路\n１名：１，０００円（小学生以下は保護者同伴） \nAM9：00～10：00　or　AM11：00～12：00　（お好きな時間をお選び下さい） \n小雨決行（雨具持参）、歩きやすい靴でお越しください。 \nお申し込みはこちら
URL:https://hidasanmyaku-gifu.jp/okuhida-vc/event/tua-7-1/2025-07-06/
LOCATION:中部山岳国立公園奥飛驒ビジターセンター\, 奥飛騨温泉郷平湯763-12\, 高山市\, 岐阜県\, 506-1433\, 日本
CATEGORIES:周辺イベント
ATTACH;FMTTYPE=image/png:https://hidasanmyaku-gifu.jp/okuhida-vc/wp-content/uploads/2025/06/★チラシ裏最終.png
END:VEVENT
BEGIN:VEVENT
DTSTART;TZID=Asia/Tokyo:20250712T090000
DTEND;TZID=Asia/Tokyo:20250712T120000
DTSTAMP:20260421T223238
CREATED:20250626T074125Z
LAST-MODIFIED:20250626T074125Z
UID:10010319-1752310800-1752321600@hidasanmyaku-gifu.jp
SUMMARY:自然散策ガイドツアー・平湯自然探勝路コース
DESCRIPTION:初夏を感じる森１時間コース：平湯自然探勝路\n１名：１，０００円（小学生以下は保護者同伴） \nAM9：00～10：00　or　AM11：00～12：00　（お好きな時間をお選び下さい） \n小雨決行（雨具持参）、歩きやすい靴でお越しください。 \nお申し込みはこちら
URL:https://hidasanmyaku-gifu.jp/okuhida-vc/event/tua-7-1/2025-07-12/
LOCATION:中部山岳国立公園奥飛驒ビジターセンター\, 奥飛騨温泉郷平湯763-12\, 高山市\, 岐阜県\, 506-1433\, 日本
CATEGORIES:周辺イベント
ATTACH;FMTTYPE=image/png:https://hidasanmyaku-gifu.jp/okuhida-vc/wp-content/uploads/2025/06/★チラシ裏最終.png
END:VEVENT
BEGIN:VEVENT
DTSTART;TZID=Asia/Tokyo:20250713T090000
DTEND;TZID=Asia/Tokyo:20250713T120000
DTSTAMP:20260421T223238
CREATED:20250626T074125Z
LAST-MODIFIED:20250626T074125Z
UID:10010320-1752397200-1752408000@hidasanmyaku-gifu.jp
SUMMARY:自然散策ガイドツアー・平湯自然探勝路コース
DESCRIPTION:初夏を感じる森１時間コース：平湯自然探勝路\n１名：１，０００円（小学生以下は保護者同伴） \nAM9：00～10：00　or　AM11：00～12：00　（お好きな時間をお選び下さい） \n小雨決行（雨具持参）、歩きやすい靴でお越しください。 \nお申し込みはこちら
URL:https://hidasanmyaku-gifu.jp/okuhida-vc/event/tua-7-1/2025-07-13/
LOCATION:中部山岳国立公園奥飛驒ビジターセンター\, 奥飛騨温泉郷平湯763-12\, 高山市\, 岐阜県\, 506-1433\, 日本
CATEGORIES:周辺イベント
ATTACH;FMTTYPE=image/png:https://hidasanmyaku-gifu.jp/okuhida-vc/wp-content/uploads/2025/06/★チラシ裏最終.png
END:VEVENT
BEGIN:VEVENT
DTSTART;TZID=Asia/Tokyo:20250719T090000
DTEND;TZID=Asia/Tokyo:20250719T120000
DTSTAMP:20260421T223238
CREATED:20250626T074125Z
LAST-MODIFIED:20250626T074125Z
UID:10010321-1752915600-1752926400@hidasanmyaku-gifu.jp
SUMMARY:自然散策ガイドツアー・平湯自然探勝路コース
DESCRIPTION:初夏を感じる森１時間コース：平湯自然探勝路\n１名：１，０００円（小学生以下は保護者同伴） \nAM9：00～10：00　or　AM11：00～12：00　（お好きな時間をお選び下さい） \n小雨決行（雨具持参）、歩きやすい靴でお越しください。 \nお申し込みはこちら
URL:https://hidasanmyaku-gifu.jp/okuhida-vc/event/tua-7-1/2025-07-19/
LOCATION:中部山岳国立公園奥飛驒ビジターセンター\, 奥飛騨温泉郷平湯763-12\, 高山市\, 岐阜県\, 506-1433\, 日本
CATEGORIES:周辺イベント
ATTACH;FMTTYPE=image/png:https://hidasanmyaku-gifu.jp/okuhida-vc/wp-content/uploads/2025/06/★チラシ裏最終.png
END:VEVENT
BEGIN:VEVENT
DTSTART;TZID=Asia/Tokyo:20250720T090000
DTEND;TZID=Asia/Tokyo:20250720T120000
DTSTAMP:20260421T223238
CREATED:20250626T074125Z
LAST-MODIFIED:20250626T074125Z
UID:10010322-1753002000-1753012800@hidasanmyaku-gifu.jp
SUMMARY:自然散策ガイドツアー・平湯自然探勝路コース
DESCRIPTION:初夏を感じる森１時間コース：平湯自然探勝路\n１名：１，０００円（小学生以下は保護者同伴） \nAM9：00～10：00　or　AM11：00～12：00　（お好きな時間をお選び下さい） \n小雨決行（雨具持参）、歩きやすい靴でお越しください。 \nお申し込みはこちら
URL:https://hidasanmyaku-gifu.jp/okuhida-vc/event/tua-7-1/2025-07-20/
LOCATION:中部山岳国立公園奥飛驒ビジターセンター\, 奥飛騨温泉郷平湯763-12\, 高山市\, 岐阜県\, 506-1433\, 日本
CATEGORIES:周辺イベント
ATTACH;FMTTYPE=image/png:https://hidasanmyaku-gifu.jp/okuhida-vc/wp-content/uploads/2025/06/★チラシ裏最終.png
END:VEVENT
BEGIN:VEVENT
DTSTART;TZID=Asia/Tokyo:20250726T090000
DTEND;TZID=Asia/Tokyo:20250726T120000
DTSTAMP:20260421T223238
CREATED:20250626T074125Z
LAST-MODIFIED:20250626T074125Z
UID:10010323-1753520400-1753531200@hidasanmyaku-gifu.jp
SUMMARY:自然散策ガイドツアー・平湯自然探勝路コース
DESCRIPTION:初夏を感じる森１時間コース：平湯自然探勝路\n１名：１，０００円（小学生以下は保護者同伴） \nAM9：00～10：00　or　AM11：00～12：00　（お好きな時間をお選び下さい） \n小雨決行（雨具持参）、歩きやすい靴でお越しください。 \nお申し込みはこちら
URL:https://hidasanmyaku-gifu.jp/okuhida-vc/event/tua-7-1/2025-07-26/
LOCATION:中部山岳国立公園奥飛驒ビジターセンター\, 奥飛騨温泉郷平湯763-12\, 高山市\, 岐阜県\, 506-1433\, 日本
CATEGORIES:周辺イベント
ATTACH;FMTTYPE=image/png:https://hidasanmyaku-gifu.jp/okuhida-vc/wp-content/uploads/2025/06/★チラシ裏最終.png
END:VEVENT
BEGIN:VEVENT
DTSTART;TZID=Asia/Tokyo:20250727T090000
DTEND;TZID=Asia/Tokyo:20250727T120000
DTSTAMP:20260421T223238
CREATED:20250626T074125Z
LAST-MODIFIED:20250626T074125Z
UID:10010324-1753606800-1753617600@hidasanmyaku-gifu.jp
SUMMARY:自然散策ガイドツアー・平湯自然探勝路コース
DESCRIPTION:初夏を感じる森１時間コース：平湯自然探勝路\n１名：１，０００円（小学生以下は保護者同伴） \nAM9：00～10：00　or　AM11：00～12：00　（お好きな時間をお選び下さい） \n小雨決行（雨具持参）、歩きやすい靴でお越しください。 \nお申し込みはこちら
URL:https://hidasanmyaku-gifu.jp/okuhida-vc/event/tua-7-1/2025-07-27/
LOCATION:中部山岳国立公園奥飛驒ビジターセンター\, 奥飛騨温泉郷平湯763-12\, 高山市\, 岐阜県\, 506-1433\, 日本
CATEGORIES:周辺イベント
ATTACH;FMTTYPE=image/png:https://hidasanmyaku-gifu.jp/okuhida-vc/wp-content/uploads/2025/06/★チラシ裏最終.png
END:VEVENT
END:VCALENDAR