BEGIN:VCALENDAR
VERSION:2.0
PRODID:-//中部山岳国立公園奥飛驒ビジターセンター - ECPv6.15.17.1//NONSGML v1.0//EN
CALSCALE:GREGORIAN
METHOD:PUBLISH
X-WR-CALNAME:中部山岳国立公園奥飛驒ビジターセンター
X-ORIGINAL-URL:https://hidasanmyaku-gifu.jp/okuhida-vc
X-WR-CALDESC:中部山岳国立公園奥飛驒ビジターセンター のイベント
REFRESH-INTERVAL;VALUE=DURATION:PT1H
X-Robots-Tag:noindex
X-PUBLISHED-TTL:PT1H
BEGIN:VTIMEZONE
TZID:Asia/Tokyo
BEGIN:STANDARD
TZOFFSETFROM:+0900
TZOFFSETTO:+0900
TZNAME:JST
DTSTART:20240101T000000
END:STANDARD
END:VTIMEZONE
BEGIN:VEVENT
DTSTART;TZID=Asia/Tokyo:20251025T100000
DTEND;TZID=Asia/Tokyo:20251025T160000
DTSTAMP:20260422T083336
CREATED:20250914T000004Z
LAST-MODIFIED:20250914T000618Z
UID:10010655-1761386400-1761408000@hidasanmyaku-gifu.jp
SUMMARY:紅葉自然散策ガイドツアー
DESCRIPTION:～紅に染まる滝、深まる秋。平湯が魅せる絶景～\n平湯大滝２時間コース\n紅葉が始まり美しく色づく滝や森。\n秋風と共に滝の美しさを感じませんか？ \n１０月４日（土）、５日（日）、１１日（土）、１２日（日）、１３日（月・祝日）、２５日（土）開催 \n午前の部：10：00～12：00　午後の部：14：00～16：00 \n小学生以下は保護者同伴 \n歩きやすい靴でお越しください。小雨決行（雨具をお持ちください） \nお申し込みはこちら
URL:https://hidasanmyaku-gifu.jp/okuhida-vc/event/momiji2/2025-10-25/
LOCATION:中部山岳国立公園奥飛驒ビジターセンター\, 奥飛騨温泉郷平湯763-12\, 高山市\, 岐阜県\, 506-1433\, 日本
CATEGORIES:周辺イベント
ATTACH;FMTTYPE=image/jpeg:https://hidasanmyaku-gifu.jp/okuhida-vc/wp-content/uploads/2025/09/★10月ガイドツアー.jpg
END:VEVENT
BEGIN:VEVENT
DTSTART;TZID=Asia/Tokyo:20251026T100000
DTEND;TZID=Asia/Tokyo:20251026T150000
DTSTAMP:20260422T083336
CREATED:20250912T053052Z
LAST-MODIFIED:20250912T053052Z
UID:10010649-1761472800-1761490800@hidasanmyaku-gifu.jp
SUMMARY:温泉を知ろう！学ぼう！楽しもう！　in　奥飛騨温泉郷　福地温泉
DESCRIPTION:温泉ってホントに面白い！！\n昨年は平湯温泉（奥飛騨ビジターセンター）で行い、大好評だった温泉講座。今回は福地温泉で第２弾を行います！ \n今回の会場は「福地温泉の昔ばなしの里（いろりの間）」です。福地温泉を歩いて回ります。 \n為になって面白い！そんな温泉講座を聞きにぜひいらしてください。 \nお申し込みはこちら
URL:https://hidasanmyaku-gifu.jp/okuhida-vc/event/onnsenn/
LOCATION:昔ばなしの里\, 岐阜県高山市奥飛騨温泉郷福地110\, 高山市\, 岐阜県\, 506-1434\, Japan
CATEGORIES:周辺イベント
ATTACH;FMTTYPE=image/jpeg:https://hidasanmyaku-gifu.jp/okuhida-vc/wp-content/uploads/2025/09/★温泉博士-福地-A4チラシ.jpg
END:VEVENT
BEGIN:VEVENT
DTSTART;TZID=Asia/Tokyo:20251101T100000
DTEND;TZID=Asia/Tokyo:20251101T160000
DTSTAMP:20260422T083336
CREATED:20251006T073802Z
LAST-MODIFIED:20251006T074529Z
UID:10010779-1761991200-1762012800@hidasanmyaku-gifu.jp
SUMMARY:紅葉自然散策ガイドツアー
DESCRIPTION:紅葉のしくみを知ろう！\nあなたの知らない平湯大滝と紅葉のしくみを両方一緒に学べるお得なツアーです♪ \nお申し込みはこちら
URL:https://hidasanmyaku-gifu.jp/okuhida-vc/event/kouyoutour/2025-11-01/
LOCATION:中部山岳国立公園奥飛驒ビジターセンター\, 奥飛騨温泉郷平湯763-12\, 高山市\, 岐阜県\, 506-1433\, 日本
CATEGORIES:周辺イベント
ATTACH;FMTTYPE=image/jpeg:https://hidasanmyaku-gifu.jp/okuhida-vc/wp-content/uploads/2025/10/紅葉ガイドツアーチラシ.jpg
END:VEVENT
BEGIN:VEVENT
DTSTART;TZID=Asia/Tokyo:20251102T100000
DTEND;TZID=Asia/Tokyo:20251102T160000
DTSTAMP:20260422T083336
CREATED:20251006T073802Z
LAST-MODIFIED:20251006T074529Z
UID:10010780-1762077600-1762099200@hidasanmyaku-gifu.jp
SUMMARY:紅葉自然散策ガイドツアー
DESCRIPTION:紅葉のしくみを知ろう！\nあなたの知らない平湯大滝と紅葉のしくみを両方一緒に学べるお得なツアーです♪ \nお申し込みはこちら
URL:https://hidasanmyaku-gifu.jp/okuhida-vc/event/kouyoutour/2025-11-02/
LOCATION:中部山岳国立公園奥飛驒ビジターセンター\, 奥飛騨温泉郷平湯763-12\, 高山市\, 岐阜県\, 506-1433\, 日本
CATEGORIES:周辺イベント
ATTACH;FMTTYPE=image/jpeg:https://hidasanmyaku-gifu.jp/okuhida-vc/wp-content/uploads/2025/10/紅葉ガイドツアーチラシ.jpg
END:VEVENT
BEGIN:VEVENT
DTSTART;TZID=Asia/Tokyo:20251103T100000
DTEND;TZID=Asia/Tokyo:20251103T160000
DTSTAMP:20260422T083336
CREATED:20251006T073802Z
LAST-MODIFIED:20251006T074529Z
UID:10010781-1762164000-1762185600@hidasanmyaku-gifu.jp
SUMMARY:紅葉自然散策ガイドツアー
DESCRIPTION:紅葉のしくみを知ろう！\nあなたの知らない平湯大滝と紅葉のしくみを両方一緒に学べるお得なツアーです♪ \nお申し込みはこちら
URL:https://hidasanmyaku-gifu.jp/okuhida-vc/event/kouyoutour/2025-11-03/
LOCATION:中部山岳国立公園奥飛驒ビジターセンター\, 奥飛騨温泉郷平湯763-12\, 高山市\, 岐阜県\, 506-1433\, 日本
CATEGORIES:周辺イベント
ATTACH;FMTTYPE=image/jpeg:https://hidasanmyaku-gifu.jp/okuhida-vc/wp-content/uploads/2025/10/紅葉ガイドツアーチラシ.jpg
END:VEVENT
BEGIN:VEVENT
DTSTART;TZID=Asia/Tokyo:20251108T100000
DTEND;TZID=Asia/Tokyo:20251108T160000
DTSTAMP:20260422T083336
CREATED:20251006T073802Z
LAST-MODIFIED:20251006T074529Z
UID:10010782-1762596000-1762617600@hidasanmyaku-gifu.jp
SUMMARY:紅葉自然散策ガイドツアー
DESCRIPTION:紅葉のしくみを知ろう！\nあなたの知らない平湯大滝と紅葉のしくみを両方一緒に学べるお得なツアーです♪ \nお申し込みはこちら
URL:https://hidasanmyaku-gifu.jp/okuhida-vc/event/kouyoutour/2025-11-08/
LOCATION:中部山岳国立公園奥飛驒ビジターセンター\, 奥飛騨温泉郷平湯763-12\, 高山市\, 岐阜県\, 506-1433\, 日本
CATEGORIES:周辺イベント
ATTACH;FMTTYPE=image/jpeg:https://hidasanmyaku-gifu.jp/okuhida-vc/wp-content/uploads/2025/10/紅葉ガイドツアーチラシ.jpg
END:VEVENT
BEGIN:VEVENT
DTSTART;TZID=Asia/Tokyo:20251108T130000
DTEND;TZID=Asia/Tokyo:20251108T150000
DTSTAMP:20260422T083336
CREATED:20251006T072627Z
LAST-MODIFIED:20251006T072627Z
UID:10010778-1762606800-1762614000@hidasanmyaku-gifu.jp
SUMMARY:平湯大滝瞑想ヨガ
DESCRIPTION:平湯大滝を眺めながら瞑想ヨガをしませんか？\nまずは岐阜県産ひのきを使ったアイピロー作り。それから、天気が良ければ太陽の陽射しを感じながら平湯大滝で瞑想ヨガ、\nもし悪いようなら奥飛騨ビジターセンターの床暖房のきいているあったかい部屋で、山々の美しい映像を見ながらゆったりヨガをしませんか？ \n初心者の方も大歓迎！みんなでヨガを楽しみましょう♪ \nお申し込みはこちら
URL:https://hidasanmyaku-gifu.jp/okuhida-vc/event/yoga/
LOCATION:中部山岳国立公園奥飛驒ビジターセンター\, 奥飛騨温泉郷平湯763-12\, 高山市\, 岐阜県\, 506-1433\, 日本
CATEGORIES:周辺イベント,館内イベント
ATTACH;FMTTYPE=image/jpeg:https://hidasanmyaku-gifu.jp/okuhida-vc/wp-content/uploads/2025/10/ヨガチラシ.jpg
END:VEVENT
BEGIN:VEVENT
DTSTART;TZID=Asia/Tokyo:20251115T100000
DTEND;TZID=Asia/Tokyo:20251115T160000
DTSTAMP:20260422T083336
CREATED:20251006T073802Z
LAST-MODIFIED:20251006T074529Z
UID:10010783-1763200800-1763222400@hidasanmyaku-gifu.jp
SUMMARY:紅葉自然散策ガイドツアー
DESCRIPTION:紅葉のしくみを知ろう！\nあなたの知らない平湯大滝と紅葉のしくみを両方一緒に学べるお得なツアーです♪ \nお申し込みはこちら
URL:https://hidasanmyaku-gifu.jp/okuhida-vc/event/kouyoutour/2025-11-15/
LOCATION:中部山岳国立公園奥飛驒ビジターセンター\, 奥飛騨温泉郷平湯763-12\, 高山市\, 岐阜県\, 506-1433\, 日本
CATEGORIES:周辺イベント
ATTACH;FMTTYPE=image/jpeg:https://hidasanmyaku-gifu.jp/okuhida-vc/wp-content/uploads/2025/10/紅葉ガイドツアーチラシ.jpg
END:VEVENT
BEGIN:VEVENT
DTSTART;TZID=Asia/Tokyo:20251116T100000
DTEND;TZID=Asia/Tokyo:20251116T160000
DTSTAMP:20260422T083336
CREATED:20251006T073802Z
LAST-MODIFIED:20251006T074529Z
UID:10010784-1763287200-1763308800@hidasanmyaku-gifu.jp
SUMMARY:紅葉自然散策ガイドツアー
DESCRIPTION:紅葉のしくみを知ろう！\nあなたの知らない平湯大滝と紅葉のしくみを両方一緒に学べるお得なツアーです♪ \nお申し込みはこちら
URL:https://hidasanmyaku-gifu.jp/okuhida-vc/event/kouyoutour/2025-11-16/
LOCATION:中部山岳国立公園奥飛驒ビジターセンター\, 奥飛騨温泉郷平湯763-12\, 高山市\, 岐阜県\, 506-1433\, 日本
CATEGORIES:周辺イベント
ATTACH;FMTTYPE=image/jpeg:https://hidasanmyaku-gifu.jp/okuhida-vc/wp-content/uploads/2025/10/紅葉ガイドツアーチラシ.jpg
END:VEVENT
BEGIN:VEVENT
DTSTART;TZID=Asia/Tokyo:20251122T100000
DTEND;TZID=Asia/Tokyo:20251122T160000
DTSTAMP:20260422T083336
CREATED:20251006T073802Z
LAST-MODIFIED:20251006T074529Z
UID:10010785-1763805600-1763827200@hidasanmyaku-gifu.jp
SUMMARY:紅葉自然散策ガイドツアー
DESCRIPTION:紅葉のしくみを知ろう！\nあなたの知らない平湯大滝と紅葉のしくみを両方一緒に学べるお得なツアーです♪ \nお申し込みはこちら
URL:https://hidasanmyaku-gifu.jp/okuhida-vc/event/kouyoutour/2025-11-22/
LOCATION:中部山岳国立公園奥飛驒ビジターセンター\, 奥飛騨温泉郷平湯763-12\, 高山市\, 岐阜県\, 506-1433\, 日本
CATEGORIES:周辺イベント
ATTACH;FMTTYPE=image/jpeg:https://hidasanmyaku-gifu.jp/okuhida-vc/wp-content/uploads/2025/10/紅葉ガイドツアーチラシ.jpg
END:VEVENT
BEGIN:VEVENT
DTSTART;TZID=Asia/Tokyo:20251123T100000
DTEND;TZID=Asia/Tokyo:20251123T160000
DTSTAMP:20260422T083336
CREATED:20251006T073802Z
LAST-MODIFIED:20251006T074529Z
UID:10010786-1763892000-1763913600@hidasanmyaku-gifu.jp
SUMMARY:紅葉自然散策ガイドツアー
DESCRIPTION:紅葉のしくみを知ろう！\nあなたの知らない平湯大滝と紅葉のしくみを両方一緒に学べるお得なツアーです♪ \nお申し込みはこちら
URL:https://hidasanmyaku-gifu.jp/okuhida-vc/event/kouyoutour/2025-11-23/
LOCATION:中部山岳国立公園奥飛驒ビジターセンター\, 奥飛騨温泉郷平湯763-12\, 高山市\, 岐阜県\, 506-1433\, 日本
CATEGORIES:周辺イベント
ATTACH;FMTTYPE=image/jpeg:https://hidasanmyaku-gifu.jp/okuhida-vc/wp-content/uploads/2025/10/紅葉ガイドツアーチラシ.jpg
END:VEVENT
BEGIN:VEVENT
DTSTART;TZID=Asia/Tokyo:20251124T100000
DTEND;TZID=Asia/Tokyo:20251124T160000
DTSTAMP:20260422T083336
CREATED:20251006T073802Z
LAST-MODIFIED:20251006T074529Z
UID:10010787-1763978400-1764000000@hidasanmyaku-gifu.jp
SUMMARY:紅葉自然散策ガイドツアー
DESCRIPTION:紅葉のしくみを知ろう！\nあなたの知らない平湯大滝と紅葉のしくみを両方一緒に学べるお得なツアーです♪ \nお申し込みはこちら
URL:https://hidasanmyaku-gifu.jp/okuhida-vc/event/kouyoutour/2025-11-24/
LOCATION:中部山岳国立公園奥飛驒ビジターセンター\, 奥飛騨温泉郷平湯763-12\, 高山市\, 岐阜県\, 506-1433\, 日本
CATEGORIES:周辺イベント
ATTACH;FMTTYPE=image/jpeg:https://hidasanmyaku-gifu.jp/okuhida-vc/wp-content/uploads/2025/10/紅葉ガイドツアーチラシ.jpg
END:VEVENT
BEGIN:VEVENT
DTSTART;TZID=Asia/Tokyo:20251130T100000
DTEND;TZID=Asia/Tokyo:20251130T160000
DTSTAMP:20260422T083336
CREATED:20251006T073802Z
LAST-MODIFIED:20251006T074529Z
UID:10010788-1764496800-1764518400@hidasanmyaku-gifu.jp
SUMMARY:紅葉自然散策ガイドツアー
DESCRIPTION:紅葉のしくみを知ろう！\nあなたの知らない平湯大滝と紅葉のしくみを両方一緒に学べるお得なツアーです♪ \nお申し込みはこちら
URL:https://hidasanmyaku-gifu.jp/okuhida-vc/event/kouyoutour/2025-11-30/
LOCATION:中部山岳国立公園奥飛驒ビジターセンター\, 奥飛騨温泉郷平湯763-12\, 高山市\, 岐阜県\, 506-1433\, 日本
CATEGORIES:周辺イベント
ATTACH;FMTTYPE=image/jpeg:https://hidasanmyaku-gifu.jp/okuhida-vc/wp-content/uploads/2025/10/紅葉ガイドツアーチラシ.jpg
END:VEVENT
BEGIN:VEVENT
DTSTART;TZID=Asia/Tokyo:20260201T100000
DTEND;TZID=Asia/Tokyo:20260201T160000
DTSTAMP:20260422T083336
CREATED:20260116T003056Z
LAST-MODIFIED:20260312T061550Z
UID:10011203-1769940000-1769961600@hidasanmyaku-gifu.jp
SUMMARY:ひらゆ探勝路スノーシューツアー
DESCRIPTION:初心者にもやさしいスノーシューツアーを２月～３月の日曜日限定で開催します。\nスノーシュー、ストックはお持ちでない方はレンタルできます。（大人４名、子供４名まで） \nこの冬の思い出を家族の笑顔で作りませんか？ \n保険、講師の関係で参加日の４日前までに参加者全員の氏名（カタカナ）、生年月日を備考欄に記入の上お申し込み下さい。\n後程、こちらからまたご連絡させていただきます。 \nお申し込みをお待ちしております。\nお申し込みはこちら
URL:https://hidasanmyaku-gifu.jp/okuhida-vc/event/snow-shose/2026-02-01/
LOCATION:中部山岳国立公園奥飛驒ビジターセンター\, 奥飛騨温泉郷平湯763-12\, 高山市\, 岐阜県\, 506-1433\, 日本
CATEGORIES:周辺イベント
ATTACH;FMTTYPE=image/jpeg:https://hidasanmyaku-gifu.jp/okuhida-vc/wp-content/uploads/2026/01/ひらゆスノーシュー-イベント-チラシ.jpg
END:VEVENT
BEGIN:VEVENT
DTSTART;TZID=Asia/Tokyo:20260208T100000
DTEND;TZID=Asia/Tokyo:20260208T160000
DTSTAMP:20260422T083336
CREATED:20260116T003056Z
LAST-MODIFIED:20260312T061550Z
UID:10011204-1770544800-1770566400@hidasanmyaku-gifu.jp
SUMMARY:ひらゆ探勝路スノーシューツアー
DESCRIPTION:初心者にもやさしいスノーシューツアーを２月～３月の日曜日限定で開催します。\nスノーシュー、ストックはお持ちでない方はレンタルできます。（大人４名、子供４名まで） \nこの冬の思い出を家族の笑顔で作りませんか？ \n保険、講師の関係で参加日の４日前までに参加者全員の氏名（カタカナ）、生年月日を備考欄に記入の上お申し込み下さい。\n後程、こちらからまたご連絡させていただきます。 \nお申し込みをお待ちしております。\nお申し込みはこちら
URL:https://hidasanmyaku-gifu.jp/okuhida-vc/event/snow-shose/2026-02-08/
LOCATION:中部山岳国立公園奥飛驒ビジターセンター\, 奥飛騨温泉郷平湯763-12\, 高山市\, 岐阜県\, 506-1433\, 日本
CATEGORIES:周辺イベント
ATTACH;FMTTYPE=image/jpeg:https://hidasanmyaku-gifu.jp/okuhida-vc/wp-content/uploads/2026/01/ひらゆスノーシュー-イベント-チラシ.jpg
END:VEVENT
BEGIN:VEVENT
DTSTART;TZID=Asia/Tokyo:20260215T100000
DTEND;TZID=Asia/Tokyo:20260215T160000
DTSTAMP:20260422T083336
CREATED:20260116T003056Z
LAST-MODIFIED:20260312T061550Z
UID:10011205-1771149600-1771171200@hidasanmyaku-gifu.jp
SUMMARY:ひらゆ探勝路スノーシューツアー
DESCRIPTION:初心者にもやさしいスノーシューツアーを２月～３月の日曜日限定で開催します。\nスノーシュー、ストックはお持ちでない方はレンタルできます。（大人４名、子供４名まで） \nこの冬の思い出を家族の笑顔で作りませんか？ \n保険、講師の関係で参加日の４日前までに参加者全員の氏名（カタカナ）、生年月日を備考欄に記入の上お申し込み下さい。\n後程、こちらからまたご連絡させていただきます。 \nお申し込みをお待ちしております。\nお申し込みはこちら
URL:https://hidasanmyaku-gifu.jp/okuhida-vc/event/snow-shose/2026-02-15/
LOCATION:中部山岳国立公園奥飛驒ビジターセンター\, 奥飛騨温泉郷平湯763-12\, 高山市\, 岐阜県\, 506-1433\, 日本
CATEGORIES:周辺イベント
ATTACH;FMTTYPE=image/jpeg:https://hidasanmyaku-gifu.jp/okuhida-vc/wp-content/uploads/2026/01/ひらゆスノーシュー-イベント-チラシ.jpg
END:VEVENT
BEGIN:VEVENT
DTSTART;TZID=Asia/Tokyo:20260222T100000
DTEND;TZID=Asia/Tokyo:20260222T160000
DTSTAMP:20260422T083336
CREATED:20260116T003056Z
LAST-MODIFIED:20260312T061550Z
UID:10011206-1771754400-1771776000@hidasanmyaku-gifu.jp
SUMMARY:ひらゆ探勝路スノーシューツアー
DESCRIPTION:初心者にもやさしいスノーシューツアーを２月～３月の日曜日限定で開催します。\nスノーシュー、ストックはお持ちでない方はレンタルできます。（大人４名、子供４名まで） \nこの冬の思い出を家族の笑顔で作りませんか？ \n保険、講師の関係で参加日の４日前までに参加者全員の氏名（カタカナ）、生年月日を備考欄に記入の上お申し込み下さい。\n後程、こちらからまたご連絡させていただきます。 \nお申し込みをお待ちしております。\nお申し込みはこちら
URL:https://hidasanmyaku-gifu.jp/okuhida-vc/event/snow-shose/2026-02-22/
LOCATION:中部山岳国立公園奥飛驒ビジターセンター\, 奥飛騨温泉郷平湯763-12\, 高山市\, 岐阜県\, 506-1433\, 日本
CATEGORIES:周辺イベント
ATTACH;FMTTYPE=image/jpeg:https://hidasanmyaku-gifu.jp/okuhida-vc/wp-content/uploads/2026/01/ひらゆスノーシュー-イベント-チラシ.jpg
END:VEVENT
BEGIN:VEVENT
DTSTART;TZID=Asia/Tokyo:20260301T100000
DTEND;TZID=Asia/Tokyo:20260301T160000
DTSTAMP:20260422T083336
CREATED:20260116T003056Z
LAST-MODIFIED:20260312T061550Z
UID:10011207-1772359200-1772380800@hidasanmyaku-gifu.jp
SUMMARY:ひらゆ探勝路スノーシューツアー
DESCRIPTION:初心者にもやさしいスノーシューツアーを２月～３月の日曜日限定で開催します。\nスノーシュー、ストックはお持ちでない方はレンタルできます。（大人４名、子供４名まで） \nこの冬の思い出を家族の笑顔で作りませんか？ \n保険、講師の関係で参加日の４日前までに参加者全員の氏名（カタカナ）、生年月日を備考欄に記入の上お申し込み下さい。\n後程、こちらからまたご連絡させていただきます。 \nお申し込みをお待ちしております。\nお申し込みはこちら
URL:https://hidasanmyaku-gifu.jp/okuhida-vc/event/snow-shose/2026-03-01/
LOCATION:中部山岳国立公園奥飛驒ビジターセンター\, 奥飛騨温泉郷平湯763-12\, 高山市\, 岐阜県\, 506-1433\, 日本
CATEGORIES:周辺イベント
ATTACH;FMTTYPE=image/jpeg:https://hidasanmyaku-gifu.jp/okuhida-vc/wp-content/uploads/2026/01/ひらゆスノーシュー-イベント-チラシ.jpg
END:VEVENT
BEGIN:VEVENT
DTSTART;TZID=Asia/Tokyo:20260308T100000
DTEND;TZID=Asia/Tokyo:20260308T160000
DTSTAMP:20260422T083336
CREATED:20260116T003056Z
LAST-MODIFIED:20260312T061550Z
UID:10011208-1772964000-1772985600@hidasanmyaku-gifu.jp
SUMMARY:ひらゆ探勝路スノーシューツアー
DESCRIPTION:初心者にもやさしいスノーシューツアーを２月～３月の日曜日限定で開催します。\nスノーシュー、ストックはお持ちでない方はレンタルできます。（大人４名、子供４名まで） \nこの冬の思い出を家族の笑顔で作りませんか？ \n保険、講師の関係で参加日の４日前までに参加者全員の氏名（カタカナ）、生年月日を備考欄に記入の上お申し込み下さい。\n後程、こちらからまたご連絡させていただきます。 \nお申し込みをお待ちしております。\nお申し込みはこちら
URL:https://hidasanmyaku-gifu.jp/okuhida-vc/event/snow-shose/2026-03-08/
LOCATION:中部山岳国立公園奥飛驒ビジターセンター\, 奥飛騨温泉郷平湯763-12\, 高山市\, 岐阜県\, 506-1433\, 日本
CATEGORIES:周辺イベント
ATTACH;FMTTYPE=image/jpeg:https://hidasanmyaku-gifu.jp/okuhida-vc/wp-content/uploads/2026/01/ひらゆスノーシュー-イベント-チラシ.jpg
END:VEVENT
BEGIN:VEVENT
DTSTART;TZID=Asia/Tokyo:20260315T100000
DTEND;TZID=Asia/Tokyo:20260315T160000
DTSTAMP:20260422T083336
CREATED:20260116T003056Z
LAST-MODIFIED:20260312T061550Z
UID:10011209-1773568800-1773590400@hidasanmyaku-gifu.jp
SUMMARY:ひらゆ探勝路スノーシューツアー
DESCRIPTION:初心者にもやさしいスノーシューツアーを２月～３月の日曜日限定で開催します。\nスノーシュー、ストックはお持ちでない方はレンタルできます。（大人４名、子供４名まで） \nこの冬の思い出を家族の笑顔で作りませんか？ \n保険、講師の関係で参加日の４日前までに参加者全員の氏名（カタカナ）、生年月日を備考欄に記入の上お申し込み下さい。\n後程、こちらからまたご連絡させていただきます。 \nお申し込みをお待ちしております。\nお申し込みはこちら
URL:https://hidasanmyaku-gifu.jp/okuhida-vc/event/snow-shose/2026-03-15/
LOCATION:中部山岳国立公園奥飛驒ビジターセンター\, 奥飛騨温泉郷平湯763-12\, 高山市\, 岐阜県\, 506-1433\, 日本
CATEGORIES:周辺イベント
ATTACH;FMTTYPE=image/jpeg:https://hidasanmyaku-gifu.jp/okuhida-vc/wp-content/uploads/2026/01/ひらゆスノーシュー-イベント-チラシ.jpg
END:VEVENT
BEGIN:VEVENT
DTSTART;TZID=Asia/Tokyo:20260509T093000
DTEND;TZID=Asia/Tokyo:20260509T153000
DTSTAMP:20260422T083336
CREATED:20260411T060411Z
LAST-MODIFIED:20260411T060558Z
UID:10011439-1778319000-1778340600@hidasanmyaku-gifu.jp
SUMMARY:輝山（テラシヤマ）ニリンソウ鑑賞散策ツアー
DESCRIPTION:ガイドと一緒に、篠原憮然の愛した輝山（テラシヤマ）の早春の山野草を楽しみましょう！ \nニリンソウがたくさん咲いている場所は、少し急な山道を30分程登りますので、ある程度体力のある方が対象となります。 \nお申し込みはこちら
URL:https://hidasanmyaku-gifu.jp/okuhida-vc/event/terasiyama/2026-05-09/
LOCATION:岐阜県
CATEGORIES:周辺イベント
ATTACH;FMTTYPE=image/jpeg:https://hidasanmyaku-gifu.jp/okuhida-vc/wp-content/uploads/2026/03/ニリンソウ-チラシ-A4-1.jpg
END:VEVENT
BEGIN:VEVENT
DTSTART;TZID=Asia/Tokyo:20260510T093000
DTEND;TZID=Asia/Tokyo:20260510T153000
DTSTAMP:20260422T083336
CREATED:20260411T060411Z
LAST-MODIFIED:20260411T060558Z
UID:10011440-1778405400-1778427000@hidasanmyaku-gifu.jp
SUMMARY:輝山（テラシヤマ）ニリンソウ鑑賞散策ツアー
DESCRIPTION:ガイドと一緒に、篠原憮然の愛した輝山（テラシヤマ）の早春の山野草を楽しみましょう！ \nニリンソウがたくさん咲いている場所は、少し急な山道を30分程登りますので、ある程度体力のある方が対象となります。 \nお申し込みはこちら
URL:https://hidasanmyaku-gifu.jp/okuhida-vc/event/terasiyama/2026-05-10/
LOCATION:岐阜県
CATEGORIES:周辺イベント
ATTACH;FMTTYPE=image/jpeg:https://hidasanmyaku-gifu.jp/okuhida-vc/wp-content/uploads/2026/03/ニリンソウ-チラシ-A4-1.jpg
END:VEVENT
BEGIN:VEVENT
DTSTART;TZID=Asia/Tokyo:20260516T093000
DTEND;TZID=Asia/Tokyo:20260516T153000
DTSTAMP:20260422T083336
CREATED:20260411T060411Z
LAST-MODIFIED:20260411T060558Z
UID:10011441-1778923800-1778945400@hidasanmyaku-gifu.jp
SUMMARY:輝山（テラシヤマ）ニリンソウ鑑賞散策ツアー
DESCRIPTION:ガイドと一緒に、篠原憮然の愛した輝山（テラシヤマ）の早春の山野草を楽しみましょう！ \nニリンソウがたくさん咲いている場所は、少し急な山道を30分程登りますので、ある程度体力のある方が対象となります。 \nお申し込みはこちら
URL:https://hidasanmyaku-gifu.jp/okuhida-vc/event/terasiyama/2026-05-16/
LOCATION:岐阜県
CATEGORIES:周辺イベント
ATTACH;FMTTYPE=image/jpeg:https://hidasanmyaku-gifu.jp/okuhida-vc/wp-content/uploads/2026/03/ニリンソウ-チラシ-A4-1.jpg
END:VEVENT
BEGIN:VEVENT
DTSTART;TZID=Asia/Tokyo:20260517T090000
DTEND;TZID=Asia/Tokyo:20260517T140000
DTSTAMP:20260422T083336
CREATED:20260411T053505Z
LAST-MODIFIED:20260411T053505Z
UID:10011438-1779008400-1779026400@hidasanmyaku-gifu.jp
SUMMARY:初心者登山　十二ヶ岳
DESCRIPTION:登山初心者集合！ \n１人で登山するのは不安・・・。何を準備してどの山に登ればいいかわからない・・・。\nという方にピッタリの山にガイドと一緒にゆっくり登ります。 \n分からないことや不安なこと、いろんな楽しみ方も一緒に楽しみながら学びましょう！ \nぜひ、お申込みください。 \nお申し込みはこちら
URL:https://hidasanmyaku-gifu.jp/okuhida-vc/event/jyuuni/
LOCATION:丹生川支所\, 高山市丹生川町坊方2000\, 高山市\, 5062192
CATEGORIES:周辺イベント
ATTACH;FMTTYPE=image/jpeg:https://hidasanmyaku-gifu.jp/okuhida-vc/wp-content/uploads/2026/03/初心者登山チラシ.jpg
END:VEVENT
BEGIN:VEVENT
DTSTART;TZID=Asia/Tokyo:20260517T093000
DTEND;TZID=Asia/Tokyo:20260517T153000
DTSTAMP:20260422T083336
CREATED:20260411T060411Z
LAST-MODIFIED:20260411T060558Z
UID:10011442-1779010200-1779031800@hidasanmyaku-gifu.jp
SUMMARY:輝山（テラシヤマ）ニリンソウ鑑賞散策ツアー
DESCRIPTION:ガイドと一緒に、篠原憮然の愛した輝山（テラシヤマ）の早春の山野草を楽しみましょう！ \nニリンソウがたくさん咲いている場所は、少し急な山道を30分程登りますので、ある程度体力のある方が対象となります。 \nお申し込みはこちら
URL:https://hidasanmyaku-gifu.jp/okuhida-vc/event/terasiyama/2026-05-17/
LOCATION:岐阜県
CATEGORIES:周辺イベント
ATTACH;FMTTYPE=image/jpeg:https://hidasanmyaku-gifu.jp/okuhida-vc/wp-content/uploads/2026/03/ニリンソウ-チラシ-A4-1.jpg
END:VEVENT
BEGIN:VEVENT
DTSTART;TZID=Asia/Tokyo:20260523T093000
DTEND;TZID=Asia/Tokyo:20260523T153000
DTSTAMP:20260422T083336
CREATED:20260411T060411Z
LAST-MODIFIED:20260411T060558Z
UID:10011443-1779528600-1779550200@hidasanmyaku-gifu.jp
SUMMARY:輝山（テラシヤマ）ニリンソウ鑑賞散策ツアー
DESCRIPTION:ガイドと一緒に、篠原憮然の愛した輝山（テラシヤマ）の早春の山野草を楽しみましょう！ \nニリンソウがたくさん咲いている場所は、少し急な山道を30分程登りますので、ある程度体力のある方が対象となります。 \nお申し込みはこちら
URL:https://hidasanmyaku-gifu.jp/okuhida-vc/event/terasiyama/2026-05-23/
LOCATION:岐阜県
CATEGORIES:周辺イベント
ATTACH;FMTTYPE=image/jpeg:https://hidasanmyaku-gifu.jp/okuhida-vc/wp-content/uploads/2026/03/ニリンソウ-チラシ-A4-1.jpg
END:VEVENT
BEGIN:VEVENT
DTSTART;TZID=Asia/Tokyo:20260524T093000
DTEND;TZID=Asia/Tokyo:20260524T153000
DTSTAMP:20260422T083336
CREATED:20260411T060411Z
LAST-MODIFIED:20260411T060558Z
UID:10011444-1779615000-1779636600@hidasanmyaku-gifu.jp
SUMMARY:輝山（テラシヤマ）ニリンソウ鑑賞散策ツアー
DESCRIPTION:ガイドと一緒に、篠原憮然の愛した輝山（テラシヤマ）の早春の山野草を楽しみましょう！ \nニリンソウがたくさん咲いている場所は、少し急な山道を30分程登りますので、ある程度体力のある方が対象となります。 \nお申し込みはこちら
URL:https://hidasanmyaku-gifu.jp/okuhida-vc/event/terasiyama/2026-05-24/
LOCATION:岐阜県
CATEGORIES:周辺イベント
ATTACH;FMTTYPE=image/jpeg:https://hidasanmyaku-gifu.jp/okuhida-vc/wp-content/uploads/2026/03/ニリンソウ-チラシ-A4-1.jpg
END:VEVENT
BEGIN:VEVENT
DTSTART;TZID=Asia/Tokyo:20260530T093000
DTEND;TZID=Asia/Tokyo:20260530T153000
DTSTAMP:20260422T083336
CREATED:20260411T060411Z
LAST-MODIFIED:20260411T060558Z
UID:10011445-1780133400-1780155000@hidasanmyaku-gifu.jp
SUMMARY:輝山（テラシヤマ）ニリンソウ鑑賞散策ツアー
DESCRIPTION:ガイドと一緒に、篠原憮然の愛した輝山（テラシヤマ）の早春の山野草を楽しみましょう！ \nニリンソウがたくさん咲いている場所は、少し急な山道を30分程登りますので、ある程度体力のある方が対象となります。 \nお申し込みはこちら
URL:https://hidasanmyaku-gifu.jp/okuhida-vc/event/terasiyama/2026-05-30/
LOCATION:岐阜県
CATEGORIES:周辺イベント
ATTACH;FMTTYPE=image/jpeg:https://hidasanmyaku-gifu.jp/okuhida-vc/wp-content/uploads/2026/03/ニリンソウ-チラシ-A4-1.jpg
END:VEVENT
BEGIN:VEVENT
DTSTART;TZID=Asia/Tokyo:20260531T093000
DTEND;TZID=Asia/Tokyo:20260531T153000
DTSTAMP:20260422T083336
CREATED:20260411T060411Z
LAST-MODIFIED:20260411T060558Z
UID:10011446-1780219800-1780241400@hidasanmyaku-gifu.jp
SUMMARY:輝山（テラシヤマ）ニリンソウ鑑賞散策ツアー
DESCRIPTION:ガイドと一緒に、篠原憮然の愛した輝山（テラシヤマ）の早春の山野草を楽しみましょう！ \nニリンソウがたくさん咲いている場所は、少し急な山道を30分程登りますので、ある程度体力のある方が対象となります。 \nお申し込みはこちら
URL:https://hidasanmyaku-gifu.jp/okuhida-vc/event/terasiyama/2026-05-31/
LOCATION:岐阜県
CATEGORIES:周辺イベント
ATTACH;FMTTYPE=image/jpeg:https://hidasanmyaku-gifu.jp/okuhida-vc/wp-content/uploads/2026/03/ニリンソウ-チラシ-A4-1.jpg
END:VEVENT
END:VCALENDAR