BEGIN:VCALENDAR
VERSION:2.0
PRODID:-//乗鞍岳エコツーリズム - ECPv6.15.17.1//NONSGML v1.0//EN
CALSCALE:GREGORIAN
METHOD:PUBLISH
X-WR-CALNAME:乗鞍岳エコツーリズム
X-ORIGINAL-URL:https://hidasanmyaku-gifu.jp/norikura-eco
X-WR-CALDESC:乗鞍岳エコツーリズム のイベント
REFRESH-INTERVAL;VALUE=DURATION:PT1H
X-Robots-Tag:noindex
X-PUBLISHED-TTL:PT1H
BEGIN:VTIMEZONE
TZID:Asia/Tokyo
BEGIN:STANDARD
TZOFFSETFROM:+0900
TZOFFSETTO:+0900
TZNAME:JST
DTSTART:20240101T000000
END:STANDARD
END:VTIMEZONE
BEGIN:VEVENT
DTSTART;TZID=Asia/Tokyo:20250804T080000
DTEND;TZID=Asia/Tokyo:20251031T170000
DTSTAMP:20260421T063946
CREATED:20250805T075722Z
LAST-MODIFIED:20250930T080445Z
UID:1139-1754294400-1761930000@hidasanmyaku-gifu.jp
SUMMARY:3\,026mの山頂へ！ 地元ガイドと行く乗鞍岳登山ツアー
DESCRIPTION:
URL:https://hidasanmyaku-gifu.jp/norikura-eco/event/2025-happyplus/
ATTACH;FMTTYPE=image/jpeg:https://hidasanmyaku-gifu.jp/norikura-eco/wp-content/uploads/2024/09/太陽と頂上-scaled.jpg
ORGANIZER;CN="%E3%83%8F%E3%83%83%E3%83%94%E3%83%BC%E3%83%97%E3%83%A9%E3%82%B9%EF%BC%88%E6%A0%AA%EF%BC%89":MAILTO:info@happy-plus.co.jp
END:VEVENT
BEGIN:VEVENT
DTSTART;TZID=Asia/Tokyo:20250912T080000
DTEND;TZID=Asia/Tokyo:20260911T170000
DTSTAMP:20260421T063946
CREATED:20250916T012526Z
LAST-MODIFIED:20250930T083244Z
UID:1464-1757664000-1789146000@hidasanmyaku-gifu.jp
SUMMARY:日本山岳ガイド協会認定ガイドがご案内　日本百名山　焼岳2\,393m
DESCRIPTION:
URL:https://hidasanmyaku-gifu.jp/norikura-eco/event/mt-yakedake/
ATTACH;FMTTYPE=image/jpeg:https://hidasanmyaku-gifu.jp/norikura-eco/wp-content/uploads/2025/09/トップイメージ.jpg
END:VEVENT
END:VCALENDAR