BEGIN:VCALENDAR
VERSION:2.0
PRODID:-//乗鞍岳エコツーリズム - ECPv6.15.17.1//NONSGML v1.0//EN
CALSCALE:GREGORIAN
METHOD:PUBLISH
X-WR-CALNAME:乗鞍岳エコツーリズム
X-ORIGINAL-URL:https://hidasanmyaku-gifu.jp/norikura-eco
X-WR-CALDESC:乗鞍岳エコツーリズム のイベント
REFRESH-INTERVAL;VALUE=DURATION:PT1H
X-Robots-Tag:noindex
X-PUBLISHED-TTL:PT1H
BEGIN:VTIMEZONE
TZID:Asia/Tokyo
BEGIN:STANDARD
TZOFFSETFROM:+0900
TZOFFSETTO:+0900
TZNAME:JST
DTSTART:20230101T000000
END:STANDARD
END:VTIMEZONE
BEGIN:VEVENT
DTSTART;TZID=Asia/Tokyo:20250828T083000
DTEND;TZID=Asia/Tokyo:20250922T140000
DTSTAMP:20260421T102332
CREATED:20250828T071151Z
LAST-MODIFIED:20250930T083657Z
UID:1176-1756369800-1758549600@hidasanmyaku-gifu.jp
SUMMARY:沢歩き×スペシャルティコーヒー「OFF THE GRID COFFEE TOUR（オフザグリッドコーヒーツアー）」
DESCRIPTION:
URL:https://hidasanmyaku-gifu.jp/norikura-eco/event/river-walking/
ATTACH;FMTTYPE=image/jpeg:https://hidasanmyaku-gifu.jp/norikura-eco/wp-content/uploads/2025/08/沢歩き1.jpg
END:VEVENT
BEGIN:VEVENT
DTSTART;TZID=Asia/Tokyo:20240916T100000
DTEND;TZID=Asia/Tokyo:20241026T133000
DTSTAMP:20260421T102332
CREATED:20240917T060254Z
LAST-MODIFIED:20241011T023946Z
UID:586-1726480800-1729949400@hidasanmyaku-gifu.jp
SUMMARY:白樺の森でこころ整う癒しの森林浴　～日和田高原～
DESCRIPTION:
URL:https://hidasanmyaku-gifu.jp/norikura-eco/event/forest-bath/
ATTACH;FMTTYPE=image/jpeg:https://hidasanmyaku-gifu.jp/norikura-eco/wp-content/uploads/2024/09/森とひとと木　イメージ-scaled.jpg
ORGANIZER;CN="%E6%A3%AE%E3%81%A8%E3%81%B2%E3%81%A8%E3%81%A8%E6%9C%A8":MAILTO:morijikan@hitotoki.fun
END:VEVENT
BEGIN:VEVENT
DTSTART;TZID=Asia/Tokyo:20240914T090000
DTEND;TZID=Asia/Tokyo:20241031T170000
DTSTAMP:20260421T102332
CREATED:20241010T052218Z
LAST-MODIFIED:20250916T014735Z
UID:894-1726304400-1730394000@hidasanmyaku-gifu.jp
SUMMARY:目指せ3\,026m! 地元ガイドと行く、乗鞍岳登山ツアー!!
DESCRIPTION:
URL:https://hidasanmyaku-gifu.jp/norikura-eco/event/happy-plus/
ATTACH;FMTTYPE=image/jpeg:https://hidasanmyaku-gifu.jp/norikura-eco/wp-content/uploads/2024/09/太陽と頂上-scaled.jpg
ORGANIZER;CN="%E3%83%8F%E3%83%83%E3%83%94%E3%83%BC%E3%83%97%E3%83%A9%E3%82%B9%EF%BC%88%E6%A0%AA%EF%BC%89":MAILTO:info@happy-plus.co.jp
END:VEVENT
END:VCALENDAR